flight 153795 xen-unstable-coverity real [real] http://logs.test-lab.xenproject.org/osstest/logs/153795/
Perfect :-) All tests in this flight passed as required version targeted for testing: xen f4c1a541fa351e4f613471bbf397931f9e1ddd27 baseline version: xen afe018e041ec112d90a8b4e6ed607d22aa06f280 Last test of basis 153545 2020-09-02 09:18:27 Z 4 days Testing same since 153795 2020-09-06 09:18:25 Z 0 days 1 attempts ------------------------------------------------------------ People who touched revisions under test: Andrew Cooper <[email protected]> George Dunlap <[email protected]> Ian Jackson <[email protected]> Jan Beulich <[email protected]> Juergen Gross <[email protected]> Julien Grall <[email protected]> Michael Kurth <[email protected]> Nick Rosbrook <[email protected]> Roger Pau Monné <[email protected]> Stefano Stabellini <[email protected]> Wei Chen <[email protected]> jobs: coverity-amd64 pass ------------------------------------------------------------ sg-report-flight on osstest.test-lab.xenproject.org logs: /home/logs/logs images: /home/logs/images Logs, config files, etc. are available at http://logs.test-lab.xenproject.org/osstest/logs Explanation of these reports, and of osstest in general, is at http://xenbits.xen.org/gitweb/?p=osstest.git;a=blob;f=README.email;hb=master http://xenbits.xen.org/gitweb/?p=osstest.git;a=blob;f=README;hb=master Test harness code can be found at http://xenbits.xen.org/gitweb?p=osstest.git;a=summary Pushing revision : To xenbits.xen.org:/home/xen/git/xen.git afe018e041..f4c1a541fa f4c1a541fa351e4f613471bbf397931f9e1ddd27 -> coverity-tested/smoke
