flight 137170 xen-unstable-coverity real [real]
http://logs.test-lab.xenproject.org/osstest/logs/137170/

Perfect :-)
All tests in this flight passed as required
version targeted for testing:
 xen                  0e623fad00d84f7051950cb35db06bd0389999c9
baseline version:
 xen                  9abcac7ff14506b934e55d1cfd86575f182b77b7

Last test of basis   137050  2019-05-29 09:19:17 Z    4 days
Testing same since   137170  2019-06-02 09:18:33 Z    0 days    1 attempts

------------------------------------------------------------
People who touched revisions under test:
  Andrew Cooper <[email protected]>
  George Dunlap <[email protected]>
  Jan Beulich <[email protected]>
  Juergen Gross <[email protected]>
  Julien Grall <[email protected]>
  Kevin Tian <[email protected]>
  Paul Durrant <[email protected]>
  Stefano Stabellini <[email protected]>

jobs:
 coverity-amd64                                               pass    


------------------------------------------------------------
sg-report-flight on osstest.test-lab.xenproject.org
logs: /home/logs/logs
images: /home/logs/images

Logs, config files, etc. are available at
    http://logs.test-lab.xenproject.org/osstest/logs

Explanation of these reports, and of osstest in general, is at
    http://xenbits.xen.org/gitweb/?p=osstest.git;a=blob;f=README.email;hb=master
    http://xenbits.xen.org/gitweb/?p=osstest.git;a=blob;f=README;hb=master

Test harness code can be found at
    http://xenbits.xen.org/gitweb?p=osstest.git;a=summary


Pushing revision :

To xenbits.xen.org:/home/xen/git/xen.git
   9abcac7ff1..0e623fad00  0e623fad00d84f7051950cb35db06bd0389999c9 -> 
coverity-tested/smoke

_______________________________________________
Xen-devel mailing list
[email protected]
https://lists.xenproject.org/mailman/listinfo/xen-devel

Reply via email to