flight 168926 ovmf real [real]
http://logs.test-lab.xenproject.org/osstest/logs/168926/

Failures and problems with tests :-(

Tests which did not succeed and are blocking,
including tests which could not be run:
 build-amd64                     <job status>                 broken
 build-amd64-pvops               <job status>                 broken
 build-amd64-xsm                 <job status>                 broken
 build-i386                      <job status>                 broken
 build-i386-pvops                <job status>                 broken
 build-i386-xsm                  <job status>                 broken
 build-i386-pvops              4 host-install(4)        broken REGR. vs. 168254
 build-i386                    4 host-install(4)        broken REGR. vs. 168254
 build-i386-xsm                4 host-install(4)        broken REGR. vs. 168254
 build-amd64-xsm               4 host-install(4)        broken REGR. vs. 168254
 build-amd64                   4 host-install(4)        broken REGR. vs. 168254
 build-amd64-pvops             4 host-install(4)        broken REGR. vs. 168254

Tests which did not succeed, but are not blocking:
 build-amd64-libvirt           1 build-check(1)               blocked  n/a
 build-i386-libvirt            1 build-check(1)               blocked  n/a
 test-amd64-amd64-xl-qemuu-ovmf-amd64  1 build-check(1)             blocked n/a
 test-amd64-i386-xl-qemuu-ovmf-amd64  1 build-check(1)              blocked n/a

version targeted for testing:
 ovmf                 3ef2071927fa8a206556e878491f772e44a3132e
baseline version:
 ovmf                 b1b89f9009f2390652e0061bd7b24fc40732bc70

Last test of basis   168254  2022-02-28 10:41:46 Z   28 days
Failing since        168258  2022-03-01 01:55:31 Z   27 days  260 attempts
Testing same since   168926  2022-03-28 07:20:21 Z    0 days    1 attempts

------------------------------------------------------------
People who touched revisions under test:
  Abdul Lateef Attar <[email protected]>
  Abdul Lateef Attar via groups.io <[email protected]>
  Abner Chang <[email protected]>
  Bandaru, Purna Chandra Rao <[email protected]>
  Bob Feng <[email protected]>
  Gerd Hoffmann <[email protected]>
  Guo Dong <[email protected]>
  Guomin Jiang <[email protected]>
  Hao A Wu <[email protected]>
  Hua Ma <[email protected]>
  Huang, Li-Xia <[email protected]>
  Jagadeesh Ujja <[email protected]>
  Jason <[email protected]>
  Jason Lou <[email protected]>
  Ken Lautner <[email protected]>
  Kenneth Lautner <[email protected]>
  Kuo, Ted <[email protected]>
  Li, Zhihao <[email protected]>
  Lixia Huang <[email protected]>
  Lou, Yun <[email protected]>
  Ma, Hua <[email protected]>
  Mara Sophie Grosch <[email protected]>
  Mara Sophie Grosch via groups.io <[email protected]>
  Matt DeVillier <[email protected]>
  Michael Kubacki <[email protected]>
  Patrick Rudolph <[email protected]>
  Purna Chandra Rao Bandaru <[email protected]>
  Sami Mujawar <[email protected]>
  Sean Rhodes <[email protected]>
  Sebastien Boeuf <[email protected]>
  Sunny Wang <[email protected]>
  Ted Kuo <[email protected]>
  Wenyi Xie <[email protected]>
  wenyi,xie via groups.io <[email protected]>
  Xiaolu.Jiang <[email protected]>
  Yi Li <[email protected]>
  Zhihao Li <[email protected]>

jobs:
 build-amd64-xsm                                              broken  
 build-i386-xsm                                               broken  
 build-amd64                                                  broken  
 build-i386                                                   broken  
 build-amd64-libvirt                                          blocked 
 build-i386-libvirt                                           blocked 
 build-amd64-pvops                                            broken  
 build-i386-pvops                                             broken  
 test-amd64-amd64-xl-qemuu-ovmf-amd64                         blocked 
 test-amd64-i386-xl-qemuu-ovmf-amd64                          blocked 


------------------------------------------------------------
sg-report-flight on osstest.test-lab.xenproject.org
logs: /home/logs/logs
images: /home/logs/images

Logs, config files, etc. are available at
    http://logs.test-lab.xenproject.org/osstest/logs

Explanation of these reports, and of osstest in general, is at
    http://xenbits.xen.org/gitweb/?p=osstest.git;a=blob;f=README.email;hb=master
    http://xenbits.xen.org/gitweb/?p=osstest.git;a=blob;f=README;hb=master

Test harness code can be found at
    http://xenbits.xen.org/gitweb?p=osstest.git;a=summary

broken-job build-amd64 broken
broken-job build-amd64-pvops broken
broken-job build-amd64-xsm broken
broken-job build-i386 broken
broken-job build-i386-pvops broken
broken-job build-i386-xsm broken
broken-step build-i386-pvops host-install(4)
broken-step build-i386 host-install(4)
broken-step build-i386-xsm host-install(4)
broken-step build-amd64-xsm host-install(4)
broken-step build-amd64 host-install(4)
broken-step build-amd64-pvops host-install(4)

Not pushing.

(No revision log; it would be 1076 lines long.)

Reply via email to