flight 168925 linux-5.4 real [real] http://logs.test-lab.xenproject.org/osstest/logs/168925/
Failures and problems with tests :-( Tests which did not succeed and are blocking, including tests which could not be run: build-amd64 <job status> broken build-amd64-pvops <job status> broken build-amd64-xsm <job status> broken build-arm64 <job status> broken build-arm64-pvops <job status> broken build-arm64-xsm <job status> broken build-armhf-pvops <job status> broken build-i386 <job status> broken build-i386-pvops <job status> broken build-i386-xsm <job status> broken build-amd64-pvops 4 host-install(4) broken REGR. vs. 168810 build-amd64 4 host-install(4) broken REGR. vs. 168810 build-armhf-pvops 4 host-install(4) broken REGR. vs. 168810 build-arm64-pvops 4 host-install(4) broken REGR. vs. 168810 build-i386-xsm 4 host-install(4) broken REGR. vs. 168810 build-i386 4 host-install(4) broken REGR. vs. 168810 build-i386-pvops 4 host-install(4) broken REGR. vs. 168810 build-arm64-xsm 4 host-install(4) broken REGR. vs. 168810 build-arm64 4 host-install(4) broken REGR. vs. 168810 build-amd64-xsm 4 host-install(4) broken REGR. vs. 168810 Tests which did not succeed, but are not blocking: test-amd64-i386-qemuu-rhel6hvm-intel 1 build-check(1) blocked n/a test-amd64-i386-xl 1 build-check(1) blocked n/a test-amd64-i386-xl-pvshim 1 build-check(1) blocked n/a test-amd64-i386-xl-qemut-debianhvm-amd64 1 build-check(1) blocked n/a test-amd64-i386-xl-qemut-debianhvm-i386-xsm 1 build-check(1) blocked n/a test-amd64-i386-xl-qemut-stubdom-debianhvm-amd64-xsm 1 build-check(1) blocked n/a test-amd64-i386-xl-qemut-win7-amd64 1 build-check(1) blocked n/a test-amd64-i386-xl-qemut-ws16-amd64 1 build-check(1) blocked n/a test-amd64-i386-xl-qemuu-debianhvm-amd64 1 build-check(1) blocked n/a test-amd64-i386-xl-qemuu-debianhvm-amd64-shadow 1 build-check(1) blocked n/a test-amd64-i386-xl-qemuu-debianhvm-i386-xsm 1 build-check(1) blocked n/a test-amd64-i386-xl-qemuu-dmrestrict-amd64-dmrestrict 1 build-check(1) blocked n/a test-amd64-i386-xl-qemuu-ovmf-amd64 1 build-check(1) blocked n/a test-amd64-i386-xl-shadow 1 build-check(1) blocked n/a test-amd64-i386-xl-vhd 1 build-check(1) blocked n/a test-amd64-i386-xl-xsm 1 build-check(1) blocked n/a test-arm64-arm64-examine 1 build-check(1) blocked n/a test-arm64-arm64-libvirt-raw 1 build-check(1) blocked n/a test-arm64-arm64-libvirt-xsm 1 build-check(1) blocked n/a test-arm64-arm64-xl 1 build-check(1) blocked n/a test-arm64-arm64-xl-credit1 1 build-check(1) blocked n/a test-arm64-arm64-xl-credit2 1 build-check(1) blocked n/a test-arm64-arm64-xl-seattle 1 build-check(1) blocked n/a test-arm64-arm64-xl-thunderx 1 build-check(1) blocked n/a test-arm64-arm64-xl-vhd 1 build-check(1) blocked n/a test-arm64-arm64-xl-xsm 1 build-check(1) blocked n/a test-armhf-armhf-examine 1 build-check(1) blocked n/a test-armhf-armhf-libvirt 1 build-check(1) blocked n/a test-armhf-armhf-libvirt-qcow2 1 build-check(1) blocked n/a test-armhf-armhf-libvirt-raw 1 build-check(1) blocked n/a test-amd64-i386-examine 1 build-check(1) blocked n/a test-amd64-coresched-i386-xl 1 build-check(1) blocked n/a test-amd64-coresched-amd64-xl 1 build-check(1) blocked n/a test-amd64-amd64-xl-xsm 1 build-check(1) blocked n/a test-amd64-amd64-xl-shadow 1 build-check(1) blocked n/a test-amd64-amd64-xl-rtds 1 build-check(1) blocked n/a test-amd64-amd64-xl-qemuu-ws16-amd64 1 build-check(1) blocked n/a test-amd64-amd64-xl-qemuu-win7-amd64 1 build-check(1) blocked n/a test-amd64-amd64-xl-qemuu-ovmf-amd64 1 build-check(1) blocked n/a test-amd64-amd64-xl-qemuu-dmrestrict-amd64-dmrestrict 1 build-check(1) blocked n/a test-amd64-amd64-xl-qemuu-debianhvm-i386-xsm 1 build-check(1) blocked n/a test-amd64-amd64-xl-qemuu-debianhvm-amd64-shadow 1 build-check(1) blocked n/a build-amd64-libvirt 1 build-check(1) blocked n/a test-amd64-amd64-xl-qemuu-debianhvm-amd64 1 build-check(1) blocked n/a test-amd64-amd64-xl-qemut-ws16-amd64 1 build-check(1) blocked n/a build-arm64-libvirt 1 build-check(1) blocked n/a test-amd64-amd64-xl-qemut-win7-amd64 1 build-check(1) blocked n/a test-amd64-amd64-xl-qemut-stubdom-debianhvm-amd64-xsm 1 build-check(1) blocked n/a test-amd64-amd64-xl-qemut-debianhvm-i386-xsm 1 build-check(1) blocked n/a test-amd64-amd64-xl-qemut-debianhvm-amd64 1 build-check(1) blocked n/a build-i386-libvirt 1 build-check(1) blocked n/a test-amd64-amd64-xl-qcow2 1 build-check(1) blocked n/a test-amd64-amd64-dom0pvh-xl-amd 1 build-check(1) blocked n/a test-amd64-amd64-xl-pvshim 1 build-check(1) blocked n/a test-amd64-amd64-dom0pvh-xl-intel 1 build-check(1) blocked n/a test-amd64-amd64-xl-pvhv2-intel 1 build-check(1) blocked n/a test-amd64-amd64-examine 1 build-check(1) blocked n/a test-amd64-amd64-examine-bios 1 build-check(1) blocked n/a test-amd64-amd64-examine-uefi 1 build-check(1) blocked n/a test-amd64-amd64-xl-pvhv2-amd 1 build-check(1) blocked n/a test-amd64-amd64-libvirt 1 build-check(1) blocked n/a test-amd64-amd64-libvirt-pair 1 build-check(1) blocked n/a test-amd64-amd64-xl-multivcpu 1 build-check(1) blocked n/a test-amd64-amd64-libvirt-qemuu-debianhvm-amd64-xsm 1 build-check(1) blocked n/a test-amd64-amd64-libvirt-vhd 1 build-check(1) blocked n/a test-amd64-amd64-xl-credit2 1 build-check(1) blocked n/a test-amd64-amd64-libvirt-xsm 1 build-check(1) blocked n/a test-amd64-amd64-pair 1 build-check(1) blocked n/a test-amd64-amd64-xl-credit1 1 build-check(1) blocked n/a test-amd64-amd64-pygrub 1 build-check(1) blocked n/a test-amd64-amd64-qemuu-freebsd11-amd64 1 build-check(1) blocked n/a test-amd64-amd64-xl 1 build-check(1) blocked n/a test-amd64-amd64-qemuu-freebsd12-amd64 1 build-check(1) blocked n/a test-amd64-amd64-qemuu-nested-amd 1 build-check(1) blocked n/a test-amd64-amd64-qemuu-nested-intel 1 build-check(1) blocked n/a test-amd64-i386-xl-qemuu-win7-amd64 1 build-check(1) blocked n/a test-amd64-i386-xl-qemuu-ws16-amd64 1 build-check(1) blocked n/a test-amd64-i386-examine-bios 1 build-check(1) blocked n/a test-amd64-i386-examine-uefi 1 build-check(1) blocked n/a test-amd64-i386-freebsd10-amd64 1 build-check(1) blocked n/a test-amd64-i386-freebsd10-i386 1 build-check(1) blocked n/a test-amd64-i386-libvirt 1 build-check(1) blocked n/a test-amd64-i386-libvirt-pair 1 build-check(1) blocked n/a test-amd64-i386-libvirt-qemuu-debianhvm-amd64-xsm 1 build-check(1) blocked n/a test-amd64-i386-libvirt-raw 1 build-check(1) blocked n/a test-amd64-i386-libvirt-xsm 1 build-check(1) blocked n/a test-amd64-i386-pair 1 build-check(1) blocked n/a test-amd64-i386-qemut-rhel6hvm-amd 1 build-check(1) blocked n/a test-amd64-i386-qemut-rhel6hvm-intel 1 build-check(1) blocked n/a test-amd64-i386-qemuu-rhel6hvm-amd 1 build-check(1) blocked n/a test-armhf-armhf-xl 1 build-check(1) blocked n/a test-armhf-armhf-xl-arndale 1 build-check(1) blocked n/a test-armhf-armhf-xl-credit1 1 build-check(1) blocked n/a test-armhf-armhf-xl-credit2 1 build-check(1) blocked n/a test-armhf-armhf-xl-cubietruck 1 build-check(1) blocked n/a test-armhf-armhf-xl-multivcpu 1 build-check(1) blocked n/a test-armhf-armhf-xl-rtds 1 build-check(1) blocked n/a test-armhf-armhf-xl-vhd 1 build-check(1) blocked n/a version targeted for testing: linux 2845ff3fd34499603249676495c524a35e795b45 baseline version: linux 055c4cf7e6da13450016942e5286492b4a224868 Last test of basis 168810 2022-03-23 20:10:03 Z 4 days Testing same since 168925 2022-03-28 07:12:09 Z 0 days 1 attempts ------------------------------------------------------------ People who touched revisions under test: Arnd Bergmann <[email protected]> Chuansheng Liu <[email protected]> David S. Miller <[email protected]> Denis Efremov <[email protected]> Eric Dumazet <[email protected]> Florian Fainelli <[email protected]> Giacomo Guiduzzi <[email protected]> Giovanni Cabiddu <[email protected]> Greg Kroah-Hartman <[email protected]> Guenter Roeck <[email protected]> Herbert Xu <[email protected]> huangwenhui <[email protected]> Hulk Robot <[email protected]> J. Bruce Fields <[email protected]> Jakub Kicinski <[email protected]> James Bottomley <[email protected]> Jarkko Sakkinen <[email protected]> Jarkko Sakkinen<[email protected]> Jason Zheng <[email protected]> Johannes Berg <[email protected]> Jonathan Teh <[email protected]> Jordy Zomer <[email protected]> Lars-Peter Clausen <[email protected]> Linus Lüssing <[email protected]> Linux Kernel Functional Testing <[email protected]> Mark Brown <[email protected]> Mark Cilissen <[email protected]> Mathias Kretschmer <[email protected]> Maximilian Luz <[email protected]> Oliver Graute <[email protected]> Pablo Neira Ayuso <[email protected]> Paolo Valente <[email protected]> Paul E. McKenney <[email protected]> Rafael J. Wysocki <[email protected]> Shuah Khan <[email protected]> Steffen Klassert <[email protected]> Stephane Graber <[email protected]> Sudip Mukherjee <[email protected]> Sudip Mukherjee <[email protected]> Tadeusz Struk <[email protected]> Tadeusz Struk <[email protected]> Takashi Iwai <[email protected]> Tim Murray <[email protected]> Trond Myklebust <[email protected]> Trond Myklebust <[email protected]> Vaibhav Rustagi <[email protected]> Werner Sembach <[email protected]> Willem de Bruijn <[email protected]> jobs: build-amd64-xsm broken build-arm64-xsm broken build-i386-xsm broken build-amd64 broken build-arm64 broken build-armhf pass build-i386 broken build-amd64-libvirt blocked build-arm64-libvirt blocked build-armhf-libvirt pass build-i386-libvirt blocked build-amd64-pvops broken build-arm64-pvops broken build-armhf-pvops broken build-i386-pvops broken test-amd64-amd64-xl blocked test-amd64-coresched-amd64-xl blocked test-arm64-arm64-xl blocked test-armhf-armhf-xl blocked test-amd64-i386-xl blocked test-amd64-coresched-i386-xl blocked test-amd64-amd64-libvirt-qemuu-debianhvm-amd64-xsm blocked test-amd64-i386-libvirt-qemuu-debianhvm-amd64-xsm blocked test-amd64-amd64-xl-qemut-stubdom-debianhvm-amd64-xsm blocked test-amd64-i386-xl-qemut-stubdom-debianhvm-amd64-xsm blocked test-amd64-amd64-xl-qemut-debianhvm-i386-xsm blocked test-amd64-i386-xl-qemut-debianhvm-i386-xsm blocked test-amd64-amd64-xl-qemuu-debianhvm-i386-xsm blocked test-amd64-i386-xl-qemuu-debianhvm-i386-xsm blocked test-amd64-amd64-libvirt-xsm blocked test-arm64-arm64-libvirt-xsm blocked test-amd64-i386-libvirt-xsm blocked test-amd64-amd64-xl-xsm blocked test-arm64-arm64-xl-xsm blocked test-amd64-i386-xl-xsm blocked test-amd64-amd64-qemuu-nested-amd blocked test-amd64-amd64-xl-pvhv2-amd blocked test-amd64-i386-qemut-rhel6hvm-amd blocked test-amd64-i386-qemuu-rhel6hvm-amd blocked test-amd64-amd64-dom0pvh-xl-amd blocked test-amd64-amd64-xl-qemut-debianhvm-amd64 blocked test-amd64-i386-xl-qemut-debianhvm-amd64 blocked test-amd64-amd64-xl-qemuu-debianhvm-amd64 blocked test-amd64-i386-xl-qemuu-debianhvm-amd64 blocked test-amd64-i386-freebsd10-amd64 blocked test-amd64-amd64-qemuu-freebsd11-amd64 blocked test-amd64-amd64-qemuu-freebsd12-amd64 blocked test-amd64-amd64-xl-qemuu-ovmf-amd64 blocked test-amd64-i386-xl-qemuu-ovmf-amd64 blocked test-amd64-amd64-xl-qemut-win7-amd64 blocked test-amd64-i386-xl-qemut-win7-amd64 blocked test-amd64-amd64-xl-qemuu-win7-amd64 blocked test-amd64-i386-xl-qemuu-win7-amd64 blocked test-amd64-amd64-xl-qemut-ws16-amd64 blocked test-amd64-i386-xl-qemut-ws16-amd64 blocked test-amd64-amd64-xl-qemuu-ws16-amd64 blocked test-amd64-i386-xl-qemuu-ws16-amd64 blocked test-armhf-armhf-xl-arndale blocked test-amd64-amd64-examine-bios blocked test-amd64-i386-examine-bios blocked test-amd64-amd64-xl-credit1 blocked test-arm64-arm64-xl-credit1 blocked test-armhf-armhf-xl-credit1 blocked test-amd64-amd64-xl-credit2 blocked test-arm64-arm64-xl-credit2 blocked test-armhf-armhf-xl-credit2 blocked test-armhf-armhf-xl-cubietruck blocked test-amd64-amd64-xl-qemuu-dmrestrict-amd64-dmrestrict blocked test-amd64-i386-xl-qemuu-dmrestrict-amd64-dmrestrict blocked test-amd64-amd64-examine blocked test-arm64-arm64-examine blocked test-armhf-armhf-examine blocked test-amd64-i386-examine blocked test-amd64-i386-freebsd10-i386 blocked test-amd64-amd64-qemuu-nested-intel blocked test-amd64-amd64-xl-pvhv2-intel blocked test-amd64-i386-qemut-rhel6hvm-intel blocked test-amd64-i386-qemuu-rhel6hvm-intel blocked test-amd64-amd64-dom0pvh-xl-intel blocked test-amd64-amd64-libvirt blocked test-armhf-armhf-libvirt blocked test-amd64-i386-libvirt blocked test-amd64-amd64-xl-multivcpu blocked test-armhf-armhf-xl-multivcpu blocked test-amd64-amd64-pair blocked test-amd64-i386-pair blocked test-amd64-amd64-libvirt-pair blocked test-amd64-i386-libvirt-pair blocked test-amd64-amd64-xl-pvshim blocked test-amd64-i386-xl-pvshim blocked test-amd64-amd64-pygrub blocked test-armhf-armhf-libvirt-qcow2 blocked test-amd64-amd64-xl-qcow2 blocked test-arm64-arm64-libvirt-raw blocked test-armhf-armhf-libvirt-raw blocked test-amd64-i386-libvirt-raw blocked test-amd64-amd64-xl-rtds blocked test-armhf-armhf-xl-rtds blocked test-arm64-arm64-xl-seattle blocked test-amd64-amd64-xl-qemuu-debianhvm-amd64-shadow blocked test-amd64-i386-xl-qemuu-debianhvm-amd64-shadow blocked test-amd64-amd64-xl-shadow blocked test-amd64-i386-xl-shadow blocked test-arm64-arm64-xl-thunderx blocked test-amd64-amd64-examine-uefi blocked test-amd64-i386-examine-uefi blocked test-amd64-amd64-libvirt-vhd blocked test-arm64-arm64-xl-vhd blocked test-armhf-armhf-xl-vhd blocked test-amd64-i386-xl-vhd blocked ------------------------------------------------------------ sg-report-flight on osstest.test-lab.xenproject.org logs: /home/logs/logs images: /home/logs/images Logs, config files, etc. are available at http://logs.test-lab.xenproject.org/osstest/logs Explanation of these reports, and of osstest in general, is at http://xenbits.xen.org/gitweb/?p=osstest.git;a=blob;f=README.email;hb=master http://xenbits.xen.org/gitweb/?p=osstest.git;a=blob;f=README;hb=master Test harness code can be found at http://xenbits.xen.org/gitweb?p=osstest.git;a=summary broken-job build-amd64 broken broken-job build-amd64-pvops broken broken-job build-amd64-xsm broken broken-job build-arm64 broken broken-job build-arm64-pvops broken broken-job build-arm64-xsm broken broken-job build-armhf-pvops broken broken-job build-i386 broken broken-job build-i386-pvops broken broken-job build-i386-xsm broken broken-step build-amd64-pvops host-install(4) broken-step build-amd64 host-install(4) broken-step build-armhf-pvops host-install(4) broken-step build-arm64-pvops host-install(4) broken-step build-i386-xsm host-install(4) broken-step build-i386 host-install(4) broken-step build-i386-pvops host-install(4) broken-step build-arm64-xsm host-install(4) broken-step build-arm64 host-install(4) broken-step build-amd64-xsm host-install(4) Not pushing. (No revision log; it would be 782 lines long.)
