flight 167231 ovmf real [real]
http://logs.test-lab.xenproject.org/osstest/logs/167231/

Perfect :-)
All tests in this flight passed as required
version targeted for testing:
 ovmf                 85a678bf76c5aac2e40255f48ea3209ff95f150a
baseline version:
 ovmf                 7c0ad2c33810ead45b7919f8f8d0e282dae52e71

Last test of basis   167225  2021-12-07 17:43:21 Z    1 days
Testing same since   167231  2021-12-08 08:45:35 Z    0 days    1 attempts

------------------------------------------------------------
People who touched revisions under test:
  Aaron Li <[email protected]>
  Cheng, Gao <[email protected]>
  Feng, Ning <[email protected]>
  Gao Cheng <[email protected]>
  Guomin Jiang <[email protected]>
  Jiang, Guomin <[email protected]>
  Li, Aaron <[email protected]>
  Liu, Zhiguang <[email protected]>
  Michael D Kinney <[email protected]>
  Michael Kubacki <[email protected]>
  Ni, Ray <[email protected]>
  Ning Feng <[email protected]>
  Ray Ni <[email protected]>
  Zhiguang Liu <[email protected]>

jobs:
 build-amd64-xsm                                              pass    
 build-i386-xsm                                               pass    
 build-amd64                                                  pass    
 build-i386                                                   pass    
 build-amd64-libvirt                                          pass    
 build-i386-libvirt                                           pass    
 build-amd64-pvops                                            pass    
 build-i386-pvops                                             pass    
 test-amd64-amd64-xl-qemuu-ovmf-amd64                         pass    
 test-amd64-i386-xl-qemuu-ovmf-amd64                          pass    


------------------------------------------------------------
sg-report-flight on osstest.test-lab.xenproject.org
logs: /home/logs/logs
images: /home/logs/images

Logs, config files, etc. are available at
    http://logs.test-lab.xenproject.org/osstest/logs

Explanation of these reports, and of osstest in general, is at
    http://xenbits.xen.org/gitweb/?p=osstest.git;a=blob;f=README.email;hb=master
    http://xenbits.xen.org/gitweb/?p=osstest.git;a=blob;f=README;hb=master

Test harness code can be found at
    http://xenbits.xen.org/gitweb?p=osstest.git;a=summary


Pushing revision :

To xenbits.xen.org:/home/xen/git/osstest/ovmf.git
   7c0ad2c338..85a678bf76  85a678bf76c5aac2e40255f48ea3209ff95f150a -> 
xen-tested-master

Reply via email to