flight 163147 xen-unstable-coverity real [real] http://logs.test-lab.xenproject.org/osstest/logs/163147/
Perfect :-) All tests in this flight passed as required version targeted for testing: xen bb11edcec1a953ce590da797b0d005cd60f21e83 baseline version: xen c7691f5e340f3b579d40c77548f63133cdf5aac7 Last test of basis 162992 2021-06-23 09:20:40 Z 4 days Testing same since 163147 2021-06-27 09:18:28 Z 0 days 1 attempts ------------------------------------------------------------ People who touched revisions under test: Andrew Cooper <[email protected]> Daniel P. Smith <[email protected]> Ian Jackson <[email protected]> Jan Beulich <[email protected]> Juergen Gross <[email protected]> Julien Grall <[email protected]> Julien Grall <[email protected]> Oleksandr Tyshchenko <[email protected]> Rahul Singh <[email protected]> Stefano Stabellini <[email protected]> jobs: coverity-amd64 pass ------------------------------------------------------------ sg-report-flight on osstest.test-lab.xenproject.org logs: /home/logs/logs images: /home/logs/images Logs, config files, etc. are available at http://logs.test-lab.xenproject.org/osstest/logs Explanation of these reports, and of osstest in general, is at http://xenbits.xen.org/gitweb/?p=osstest.git;a=blob;f=README.email;hb=master http://xenbits.xen.org/gitweb/?p=osstest.git;a=blob;f=README;hb=master Test harness code can be found at http://xenbits.xen.org/gitweb?p=osstest.git;a=summary Pushing revision : To xenbits.xen.org:/home/xen/git/xen.git c7691f5e34..bb11edcec1 bb11edcec1a953ce590da797b0d005cd60f21e83 -> coverity-tested/smoke
