flight 161916 xen-unstable-coverity real [real]
http://logs.test-lab.xenproject.org/osstest/logs/161916/

Perfect :-)
All tests in this flight passed as required
version targeted for testing:
 xen                  d4fb5f166c2bfbaf9ba0de69da0d411288f437a9
baseline version:
 xen                  a7da84c457b05479ab423a2e589c5f46c7da0ed7

Last test of basis   161877  2021-05-09 09:18:27 Z    3 days
Testing same since   161916  2021-05-12 09:19:39 Z    0 days    1 attempts

------------------------------------------------------------
People who touched revisions under test:
  Jason Andryuk <[email protected]>
  Julien Grall <[email protected]>
  Michal Orzel <[email protected]>
  Olaf Hering <[email protected]>
  Volodymyr Babchuk <[email protected]>

jobs:
 coverity-amd64                                               pass    


------------------------------------------------------------
sg-report-flight on osstest.test-lab.xenproject.org
logs: /home/logs/logs
images: /home/logs/images

Logs, config files, etc. are available at
    http://logs.test-lab.xenproject.org/osstest/logs

Explanation of these reports, and of osstest in general, is at
    http://xenbits.xen.org/gitweb/?p=osstest.git;a=blob;f=README.email;hb=master
    http://xenbits.xen.org/gitweb/?p=osstest.git;a=blob;f=README;hb=master

Test harness code can be found at
    http://xenbits.xen.org/gitweb?p=osstest.git;a=summary


Pushing revision :

To xenbits.xen.org:/home/xen/git/xen.git
   a7da84c457..d4fb5f166c  d4fb5f166c2bfbaf9ba0de69da0d411288f437a9 -> 
coverity-tested/smoke

Reply via email to