flight 161350 xen-unstable-coverity real [real]
http://logs.test-lab.xenproject.org/osstest/logs/161350/

Perfect :-)
All tests in this flight passed as required
version targeted for testing:
 xen                  aaa3eafb3ba8b544d19ca41cda1477640b22b8fc
baseline version:
 xen                  dd22a64de7e02b48312839a15179528c8f7db5c6

Last test of basis   161257  2021-04-18 09:19:39 Z    3 days
Testing same since   161350  2021-04-21 09:19:38 Z    0 days    1 attempts

------------------------------------------------------------
People who touched revisions under test:
  Andrew Cooper <[email protected]>
  Bertrand Marquish <[email protected]>
  Jan Beulich <[email protected]>
  Julien Grall <[email protected]>
  Rahul Singh <[email protected]>
  Roger Pau MonnĂ© <[email protected]>
  Stefano Stabellini <[email protected]>
  Stefano Stabellini <[email protected]>
  Tamas K Lengyel <[email protected]>
  Tim Deegan <[email protected]>
  Wei Liu <[email protected]>

jobs:
 coverity-amd64                                               pass    


------------------------------------------------------------
sg-report-flight on osstest.test-lab.xenproject.org
logs: /home/logs/logs
images: /home/logs/images

Logs, config files, etc. are available at
    http://logs.test-lab.xenproject.org/osstest/logs

Explanation of these reports, and of osstest in general, is at
    http://xenbits.xen.org/gitweb/?p=osstest.git;a=blob;f=README.email;hb=master
    http://xenbits.xen.org/gitweb/?p=osstest.git;a=blob;f=README;hb=master

Test harness code can be found at
    http://xenbits.xen.org/gitweb?p=osstest.git;a=summary


Pushing revision :

To xenbits.xen.org:/home/xen/git/xen.git
   dd22a64de7..aaa3eafb3b  aaa3eafb3ba8b544d19ca41cda1477640b22b8fc -> 
coverity-tested/smoke

Reply via email to