flight 160790 xen-unstable-coverity real [real]
http://logs.test-lab.xenproject.org/osstest/logs/160790/

Perfect :-)
All tests in this flight passed as required
version targeted for testing:
 xen                  19be4d56a1f7aa65eb4d92276fa5d386e9cb2a62
baseline version:
 xen                  0435784cc75dcfef3b5f59c29deb1dbb84265ddb

Last test of basis   160721  2021-04-04 09:18:26 Z    3 days
Testing same since   160790  2021-04-07 09:18:32 Z    0 days    1 attempts

------------------------------------------------------------
People who touched revisions under test:
  George Dunlap <[email protected]>
  Ian Jackson <[email protected]>
  Jan Beulich <[email protected]>
  Julien Grall <[email protected]>
  Tim Deegan <[email protected]>

jobs:
 coverity-amd64                                               pass    


------------------------------------------------------------
sg-report-flight on osstest.test-lab.xenproject.org
logs: /home/logs/logs
images: /home/logs/images

Logs, config files, etc. are available at
    http://logs.test-lab.xenproject.org/osstest/logs

Explanation of these reports, and of osstest in general, is at
    http://xenbits.xen.org/gitweb/?p=osstest.git;a=blob;f=README.email;hb=master
    http://xenbits.xen.org/gitweb/?p=osstest.git;a=blob;f=README;hb=master

Test harness code can be found at
    http://xenbits.xen.org/gitweb?p=osstest.git;a=summary


Pushing revision :

To xenbits.xen.org:/home/xen/git/xen.git
   0435784cc7..19be4d56a1  19be4d56a1f7aa65eb4d92276fa5d386e9cb2a62 -> 
coverity-tested/smoke

Reply via email to