flight 160425 ovmf real [real]
http://logs.test-lab.xenproject.org/osstest/logs/160425/

Perfect :-)
All tests in this flight passed as required
version targeted for testing:
 ovmf                 4bf2a5b045ebf8b5e90d9210ad5190699bddb592
baseline version:
 ovmf                 f037af6ecbc3b55042c998a59ed8df8548e64b99

Last test of basis   160399  2021-03-24 22:10:54 Z    1 days
Testing same since   160425  2021-03-25 20:38:30 Z    1 days    1 attempts

------------------------------------------------------------
People who touched revisions under test:
  Ankur Arora <[email protected]>
  Laszlo Ersek <[email protected]>
  Liming Gao <[email protected]>
  Ni, Ray <[email protected]>
  Ray Ni <[email protected]>

jobs:
 build-amd64-xsm                                              pass    
 build-i386-xsm                                               pass    
 build-amd64                                                  pass    
 build-i386                                                   pass    
 build-amd64-libvirt                                          pass    
 build-i386-libvirt                                           pass    
 build-amd64-pvops                                            pass    
 build-i386-pvops                                             pass    
 test-amd64-amd64-xl-qemuu-ovmf-amd64                         pass    
 test-amd64-i386-xl-qemuu-ovmf-amd64                          pass    


------------------------------------------------------------
sg-report-flight on osstest.test-lab.xenproject.org
logs: /home/logs/logs
images: /home/logs/images

Logs, config files, etc. are available at
    http://logs.test-lab.xenproject.org/osstest/logs

Explanation of these reports, and of osstest in general, is at
    http://xenbits.xen.org/gitweb/?p=osstest.git;a=blob;f=README.email;hb=master
    http://xenbits.xen.org/gitweb/?p=osstest.git;a=blob;f=README;hb=master

Test harness code can be found at
    http://xenbits.xen.org/gitweb?p=osstest.git;a=summary


Pushing revision :

To xenbits.xen.org:/home/xen/git/osstest/ovmf.git
   f037af6ecb..4bf2a5b045  4bf2a5b045ebf8b5e90d9210ad5190699bddb592 -> 
xen-tested-master

Reply via email to