flight 159197 xen-unstable-coverity real [real]
http://logs.test-lab.xenproject.org/osstest/logs/159197/

Perfect :-)
All tests in this flight passed as required
version targeted for testing:
 xen                  687121f8a0e7c1ea1c4fa3d056637e5819342f14
baseline version:
 xen                  5e7aa904405fa2f268c3af213516bae271de3265

Last test of basis   158979  2021-02-03 09:18:36 Z    7 days
Failing since        159095  2021-02-07 09:19:37 Z    3 days    2 attempts
Testing same since   159197  2021-02-10 09:18:32 Z    0 days    1 attempts

------------------------------------------------------------
People who touched revisions under test:
  Andrew Cooper <[email protected]>
  Christian Lindig <[email protected]>
  Edwin Török <[email protected]>
  Ian Jackson <[email protected]>
  Ian Jackson <[email protected]>
  Igor Druzhinin <[email protected]>
  Jan Beulich <[email protected]>
  Manuel Bouyer <[email protected]>
  Michał Leszczyński <[email protected]>
  Olaf Hering <[email protected]>
  Oleksandr Tyshchenko <[email protected]>
  Roger Pau Monne <[email protected]>
  Roger Pau Monné <[email protected]>
  Tamas K Lengyel <[email protected]>

jobs:
 coverity-amd64                                               pass    


------------------------------------------------------------
sg-report-flight on osstest.test-lab.xenproject.org
logs: /home/logs/logs
images: /home/logs/images

Logs, config files, etc. are available at
    http://logs.test-lab.xenproject.org/osstest/logs

Explanation of these reports, and of osstest in general, is at
    http://xenbits.xen.org/gitweb/?p=osstest.git;a=blob;f=README.email;hb=master
    http://xenbits.xen.org/gitweb/?p=osstest.git;a=blob;f=README;hb=master

Test harness code can be found at
    http://xenbits.xen.org/gitweb?p=osstest.git;a=summary


Pushing revision :

To xenbits.xen.org:/home/xen/git/xen.git
   5e7aa90440..687121f8a0  687121f8a0e7c1ea1c4fa3d056637e5819342f14 -> 
coverity-tested/smoke

Reply via email to