flight 159095 xen-unstable-coverity real [real]
http://logs.test-lab.xenproject.org/osstest/logs/159095/

Failures and problems with tests :-(

Tests which did not succeed and are blocking,
including tests which could not be run:
 coverity-amd64                  <job status>                 broken
 coverity-amd64                4 host-install(4)        broken REGR. vs. 158979

version targeted for testing:
 xen                  ca82d3fecc93745ee17850a609ac7772bd7c8bf7
baseline version:
 xen                  5e7aa904405fa2f268c3af213516bae271de3265

Last test of basis   158979  2021-02-03 09:18:36 Z    4 days
Testing same since   159095  2021-02-07 09:19:37 Z    0 days    1 attempts

------------------------------------------------------------
People who touched revisions under test:
  Andrew Cooper <[email protected]>
  Christian Lindig <[email protected]>
  Edwin Török <[email protected]>
  Ian Jackson <[email protected]>
  Ian Jackson <[email protected]>
  Jan Beulich <[email protected]>
  Manuel Bouyer <[email protected]>
  Michał Leszczyński <[email protected]>
  Oleksandr Tyshchenko <[email protected]>
  Roger Pau Monne <[email protected]>
  Roger Pau Monné <[email protected]>
  Tamas K Lengyel <[email protected]>

jobs:
 coverity-amd64                                               broken  


------------------------------------------------------------
sg-report-flight on osstest.test-lab.xenproject.org
logs: /home/logs/logs
images: /home/logs/images

Logs, config files, etc. are available at
    http://logs.test-lab.xenproject.org/osstest/logs

Explanation of these reports, and of osstest in general, is at
    http://xenbits.xen.org/gitweb/?p=osstest.git;a=blob;f=README.email;hb=master
    http://xenbits.xen.org/gitweb/?p=osstest.git;a=blob;f=README;hb=master

Test harness code can be found at
    http://xenbits.xen.org/gitweb?p=osstest.git;a=summary


Not pushing.

(No revision log; it would be 453 lines long.)

Reply via email to