flight 158546 ovmf real [real] http://logs.test-lab.xenproject.org/osstest/logs/158546/
Perfect :-) All tests in this flight passed as required version targeted for testing: ovmf 339371ef78eb3a6f2e9848f8b058379de5e87d39 baseline version: ovmf ca272b9513a6de5772e6e8ef5bbecd2e23cf9fb3 Last test of basis 158541 2021-01-20 12:39:43 Z 0 days Testing same since 158546 2021-01-20 20:10:42 Z 0 days 1 attempts ------------------------------------------------------------ People who touched revisions under test: Ard Biesheuvel <[email protected]> Jiahui Cen <[email protected]> Jiahui Cen via groups.io <[email protected]> Laszlo Ersek <[email protected]> Ray Ni <[email protected]> Yubo Miao <[email protected]> jobs: build-amd64-xsm pass build-i386-xsm pass build-amd64 pass build-i386 pass build-amd64-libvirt pass build-i386-libvirt pass build-amd64-pvops pass build-i386-pvops pass test-amd64-amd64-xl-qemuu-ovmf-amd64 pass test-amd64-i386-xl-qemuu-ovmf-amd64 pass ------------------------------------------------------------ sg-report-flight on osstest.test-lab.xenproject.org logs: /home/logs/logs images: /home/logs/images Logs, config files, etc. are available at http://logs.test-lab.xenproject.org/osstest/logs Explanation of these reports, and of osstest in general, is at http://xenbits.xen.org/gitweb/?p=osstest.git;a=blob;f=README.email;hb=master http://xenbits.xen.org/gitweb/?p=osstest.git;a=blob;f=README;hb=master Test harness code can be found at http://xenbits.xen.org/gitweb?p=osstest.git;a=summary Pushing revision : To xenbits.xen.org:/home/xen/git/osstest/ovmf.git ca272b9513..339371ef78 339371ef78eb3a6f2e9848f8b058379de5e87d39 -> xen-tested-master
