flight 156941 xen-unstable-coverity real [real]
http://logs.test-lab.xenproject.org/osstest/logs/156941/

Perfect :-)
All tests in this flight passed as required
version targeted for testing:
 xen                  b659a5cebd611dbe698e63c03485b5fe8cd964ad
baseline version:
 xen                  5505f5f8e7e805365cfe70b6a4af6115940bb749

Last test of basis   156811  2020-11-15 09:18:26 Z    7 days
Testing same since   156941  2020-11-22 09:18:30 Z    0 days    1 attempts

------------------------------------------------------------
People who touched revisions under test:
  Andre Przywara <[email protected]>
  Andrew Cooper <[email protected]>
  Doug Goldstein <[email protected]>
  Edwin Török <[email protected]>
  Jan Beulich <[email protected]>
  Juergen Gross <[email protected]>
  Julien Grall <[email protected]>
  Julien Grall <[email protected]>
  Michal Orzel <[email protected]>
  Roger Pau Monné <[email protected]>
  Stefano Stabellini <[email protected]>
  Tim Deegan <[email protected]>

jobs:
 coverity-amd64                                               pass    


------------------------------------------------------------
sg-report-flight on osstest.test-lab.xenproject.org
logs: /home/logs/logs
images: /home/logs/images

Logs, config files, etc. are available at
    http://logs.test-lab.xenproject.org/osstest/logs

Explanation of these reports, and of osstest in general, is at
    http://xenbits.xen.org/gitweb/?p=osstest.git;a=blob;f=README.email;hb=master
    http://xenbits.xen.org/gitweb/?p=osstest.git;a=blob;f=README;hb=master

Test harness code can be found at
    http://xenbits.xen.org/gitweb?p=osstest.git;a=summary


Pushing revision :

To xenbits.xen.org:/home/xen/git/xen.git
   5505f5f8e7..b659a5cebd  b659a5cebd611dbe698e63c03485b5fe8cd964ad -> 
coverity-tested/smoke

Reply via email to