flight 156274 xen-unstable-coverity real [real]
http://logs.test-lab.xenproject.org/osstest/logs/156274/

Perfect :-)
All tests in this flight passed as required
version targeted for testing:
 xen                  16a20963b3209788f2c0d3a3eebb7d92f03f5883
baseline version:
 xen                  6ca70821b59849ad97c3fadc47e63c1a4af1a78c

Last test of basis   156209  2020-10-25 09:18:26 Z    3 days
Testing same since   156274  2020-10-28 09:20:30 Z    0 days    1 attempts

------------------------------------------------------------
People who touched revisions under test:
  Andrew Cooper <[email protected]>
  Bertrand Marquis <[email protected]>
  Christian Lindig <[email protected]>
  George Dunlap <[email protected]>
  Ian Jackson <[email protected]>
  Ian Jackson <[email protected]>
  Jan Beulich <[email protected]>
  Jason Andryuk <[email protected]>
  Juergen Gross <[email protected]>
  Julien Grall <[email protected]>
  Wei Liu <[email protected]>

jobs:
 coverity-amd64                                               pass    


------------------------------------------------------------
sg-report-flight on osstest.test-lab.xenproject.org
logs: /home/logs/logs
images: /home/logs/images

Logs, config files, etc. are available at
    http://logs.test-lab.xenproject.org/osstest/logs

Explanation of these reports, and of osstest in general, is at
    http://xenbits.xen.org/gitweb/?p=osstest.git;a=blob;f=README.email;hb=master
    http://xenbits.xen.org/gitweb/?p=osstest.git;a=blob;f=README;hb=master

Test harness code can be found at
    http://xenbits.xen.org/gitweb?p=osstest.git;a=summary


Pushing revision :

To xenbits.xen.org:/home/xen/git/xen.git
   6ca70821b5..16a20963b3  16a20963b3209788f2c0d3a3eebb7d92f03f5883 -> 
coverity-tested/smoke

Reply via email to