flight 155131 xen-unstable-coverity real [real] http://logs.test-lab.xenproject.org/osstest/logs/155131/
Perfect :-) All tests in this flight passed as required version targeted for testing: xen 5dba8c2f23049aa68b777a9e7e9f76c12dd00012 baseline version: xen 2785b2a9e04abc148e1c5259f4faee708ea356f4 Last test of basis 154638 2020-09-23 09:18:27 Z 7 days Failing since 154954 2020-09-27 09:18:27 Z 3 days 2 attempts Testing same since 155131 2020-09-30 09:18:28 Z 0 days 1 attempts ------------------------------------------------------------ People who touched revisions under test: Andrew Cooper <[email protected]> Jan Beulich <[email protected]> Julien Grall <[email protected]> Marek Marczykowski-Górecki <[email protected]> Oleksandr Tyshchenko <[email protected]> Roger Pau Monné <[email protected]> Stefano Stabellini <[email protected]> jobs: coverity-amd64 pass ------------------------------------------------------------ sg-report-flight on osstest.test-lab.xenproject.org logs: /home/logs/logs images: /home/logs/images Logs, config files, etc. are available at http://logs.test-lab.xenproject.org/osstest/logs Explanation of these reports, and of osstest in general, is at http://xenbits.xen.org/gitweb/?p=osstest.git;a=blob;f=README.email;hb=master http://xenbits.xen.org/gitweb/?p=osstest.git;a=blob;f=README;hb=master Test harness code can be found at http://xenbits.xen.org/gitweb?p=osstest.git;a=summary Pushing revision : To xenbits.xen.org:/home/xen/git/xen.git 2785b2a9e0..5dba8c2f23 5dba8c2f23049aa68b777a9e7e9f76c12dd00012 -> coverity-tested/smoke
