flight 154979 linux-5.4 running [real]
http://logs.test-lab.xenproject.org/osstest/logs/154979/

Failures and problems with tests :-(

Tests which did not succeed and are blocking,
including tests which could not be run:
 build-amd64                     <job status>                 broken
 build-amd64-pvops               <job status>                 broken
 build-arm64                     <job status>                 broken
 build-arm64-pvops               <job status>                 broken
 build-arm64-xsm                 <job status>                 broken
 build-armhf                     <job status>                 broken
 build-i386                      <job status>                 broken
 build-i386-pvops                <job status>                 broken
 build-i386-xsm                  <job status>                 broken
 build-i386-xsm                4 host-install(4)        broken REGR. vs. 154718
 build-i386                    4 host-install(4)        broken REGR. vs. 154718
 build-i386-pvops              4 host-install(4)        broken REGR. vs. 154718
 build-arm64                   4 host-install(4)        broken REGR. vs. 154718
 build-arm64-xsm               4 host-install(4)        broken REGR. vs. 154718
 build-arm64-pvops             4 host-install(4)        broken REGR. vs. 154718
 build-amd64-pvops             4 host-install(4)        broken REGR. vs. 154718
 build-amd64                   4 host-install(4)        broken REGR. vs. 154718
 build-armhf                   4 host-install(4)        broken REGR. vs. 154718
 test-armhf-armhf-examine        <none executed>              queued
 test-armhf-armhf-libvirt        <none executed>              queued
 test-armhf-armhf-libvirt-raw    <none executed>              queued
 test-armhf-armhf-xl             <none executed>              queued
 test-armhf-armhf-xl-arndale     <none executed>              queued
 test-armhf-armhf-xl-credit1     <none executed>              queued
 test-armhf-armhf-xl-credit2     <none executed>              queued
 test-armhf-armhf-xl-cubietruck    <none executed>              queued
 test-armhf-armhf-xl-multivcpu    <none executed>              queued
 test-armhf-armhf-xl-rtds        <none executed>              queued
 test-armhf-armhf-xl-vhd         <none executed>              queued
 test-amd64-amd64-xl-xsm         <none executed>              queued
 test-amd64-amd64-xl-qemuu-debianhvm-i386-xsm    <none executed>         queued
 test-amd64-amd64-xl-qemut-stubdom-debianhvm-amd64-xsm   <none executed> queued
 test-amd64-amd64-xl-qemut-debianhvm-i386-xsm    <none executed>         queued
 test-amd64-amd64-libvirt-qemuu-debianhvm-amd64-xsm    <none executed>   queued
 test-amd64-amd64-libvirt-xsm    <none executed>              queued
 test-amd64-i386-xl-xsm          <none executed>              queued
 test-amd64-i386-libvirt-qemuu-debianhvm-amd64-xsm    <none executed>    queued
 test-amd64-i386-libvirt-xsm     <none executed>              queued
 test-amd64-i386-xl-qemut-debianhvm-i386-xsm    <none executed>          queued
 test-amd64-i386-xl-qemut-stubdom-debianhvm-amd64-xsm    <none executed> queued
 test-amd64-i386-xl-qemuu-debianhvm-i386-xsm    <none executed>          queued
 build-amd64-xsm               2 hosts-allocate               running
 build-armhf-pvops             2 hosts-allocate               running

Tests which did not succeed, but are not blocking:
 test-arm64-arm64-examine      1 build-check(1)               blocked  n/a
 test-arm64-arm64-libvirt-xsm  1 build-check(1)               blocked  n/a
 test-arm64-arm64-xl           1 build-check(1)               blocked  n/a
 test-arm64-arm64-xl-credit1   1 build-check(1)               blocked  n/a
 test-arm64-arm64-xl-credit2   1 build-check(1)               blocked  n/a
 test-arm64-arm64-xl-seattle   1 build-check(1)               blocked  n/a
 test-arm64-arm64-xl-thunderx  1 build-check(1)               blocked  n/a
 test-arm64-arm64-xl-xsm       1 build-check(1)               blocked  n/a
 test-amd64-i386-examine       1 build-check(1)               blocked  n/a
 test-amd64-coresched-i386-xl  1 build-check(1)               blocked  n/a
 test-amd64-coresched-amd64-xl  1 build-check(1)               blocked  n/a
 test-amd64-amd64-xl-shadow    1 build-check(1)               blocked  n/a
 test-amd64-amd64-xl-rtds      1 build-check(1)               blocked  n/a
 test-amd64-amd64-xl-qemuu-ws16-amd64  1 build-check(1)             blocked n/a
 test-amd64-amd64-xl-qemuu-win7-amd64  1 build-check(1)             blocked n/a
 test-amd64-amd64-xl-qemuu-ovmf-amd64  1 build-check(1)             blocked n/a
 test-amd64-amd64-xl-qemuu-dmrestrict-amd64-dmrestrict 1 build-check(1) blocked 
n/a
 test-amd64-amd64-xl-qemuu-debianhvm-amd64-shadow  1 build-check(1) blocked n/a
 build-amd64-libvirt           1 build-check(1)               blocked  n/a
 test-amd64-amd64-xl-qemuu-debianhvm-amd64  1 build-check(1)        blocked n/a
 test-amd64-amd64-xl-qemut-ws16-amd64  1 build-check(1)             blocked n/a
 build-arm64-libvirt           1 build-check(1)               blocked  n/a
 test-amd64-amd64-xl-qemut-win7-amd64  1 build-check(1)             blocked n/a
 build-armhf-libvirt           1 build-check(1)               blocked  n/a
 test-amd64-amd64-xl-qemut-debianhvm-amd64  1 build-check(1)        blocked n/a
 build-i386-libvirt            1 build-check(1)               blocked  n/a
 test-amd64-amd64-xl-qcow2     1 build-check(1)               blocked  n/a
 test-amd64-amd64-amd64-pvgrub  1 build-check(1)               blocked  n/a
 test-amd64-amd64-xl-pvshim    1 build-check(1)               blocked  n/a
 test-amd64-amd64-dom0pvh-xl-amd  1 build-check(1)               blocked  n/a
 test-amd64-amd64-dom0pvh-xl-intel  1 build-check(1)               blocked  n/a
 test-amd64-amd64-xl-pvhv2-intel  1 build-check(1)               blocked  n/a
 test-amd64-amd64-examine      1 build-check(1)               blocked  n/a
 test-amd64-amd64-i386-pvgrub  1 build-check(1)               blocked  n/a
 test-amd64-amd64-xl-pvhv2-amd  1 build-check(1)               blocked  n/a
 test-amd64-amd64-libvirt      1 build-check(1)               blocked  n/a
 test-amd64-amd64-libvirt-pair  1 build-check(1)               blocked  n/a
 test-amd64-amd64-xl-multivcpu  1 build-check(1)               blocked  n/a
 test-amd64-amd64-libvirt-vhd  1 build-check(1)               blocked  n/a
 test-amd64-amd64-xl-credit2   1 build-check(1)               blocked  n/a
 test-amd64-amd64-pair         1 build-check(1)               blocked  n/a
 test-amd64-amd64-xl-credit1   1 build-check(1)               blocked  n/a
 test-amd64-amd64-pygrub       1 build-check(1)               blocked  n/a
 test-amd64-amd64-qemuu-freebsd11-amd64  1 build-check(1)           blocked n/a
 test-amd64-amd64-xl           1 build-check(1)               blocked  n/a
 test-amd64-amd64-qemuu-freebsd12-amd64  1 build-check(1)           blocked n/a
 test-amd64-amd64-qemuu-nested-amd  1 build-check(1)               blocked  n/a
 test-amd64-amd64-qemuu-nested-intel  1 build-check(1)              blocked n/a
 test-amd64-i386-xl-shadow     1 build-check(1)               blocked  n/a
 test-amd64-i386-freebsd10-amd64  1 build-check(1)               blocked  n/a
 test-amd64-i386-freebsd10-i386  1 build-check(1)               blocked  n/a
 test-amd64-i386-libvirt       1 build-check(1)               blocked  n/a
 test-amd64-i386-libvirt-pair  1 build-check(1)               blocked  n/a
 test-amd64-i386-pair          1 build-check(1)               blocked  n/a
 test-amd64-i386-qemut-rhel6hvm-amd  1 build-check(1)               blocked n/a
 test-amd64-i386-qemut-rhel6hvm-intel  1 build-check(1)             blocked n/a
 test-amd64-i386-qemuu-rhel6hvm-amd  1 build-check(1)               blocked n/a
 test-amd64-i386-qemuu-rhel6hvm-intel  1 build-check(1)             blocked n/a
 test-amd64-i386-xl            1 build-check(1)               blocked  n/a
 test-amd64-i386-xl-pvshim     1 build-check(1)               blocked  n/a
 test-amd64-i386-xl-qemut-debianhvm-amd64  1 build-check(1)         blocked n/a
 test-amd64-i386-xl-qemut-win7-amd64  1 build-check(1)              blocked n/a
 test-amd64-i386-xl-qemut-ws16-amd64  1 build-check(1)              blocked n/a
 test-amd64-i386-xl-qemuu-debianhvm-amd64  1 build-check(1)         blocked n/a
 test-amd64-i386-xl-qemuu-debianhvm-amd64-shadow  1 build-check(1)  blocked n/a
 test-amd64-i386-xl-qemuu-dmrestrict-amd64-dmrestrict 1 build-check(1) blocked 
n/a
 test-amd64-i386-xl-qemuu-ovmf-amd64  1 build-check(1)              blocked n/a
 test-amd64-i386-xl-qemuu-win7-amd64  1 build-check(1)              blocked n/a
 test-amd64-i386-xl-qemuu-ws16-amd64  1 build-check(1)              blocked n/a
 test-amd64-i386-xl-raw        1 build-check(1)               blocked  n/a

version targeted for testing:
 linux                5d087e3578cf9cbd850a6f0a5c8b8169f22b5272
baseline version:
 linux                a4bea6a4f1e0e5132fdedb5c0a74cbba696342fd

Last test of basis   154718  2020-09-24 19:06:39 Z    3 days
Testing same since   154908  2020-09-26 16:09:32 Z    1 days    2 attempts

------------------------------------------------------------
People who touched revisions under test:
  Andrew Morton <[email protected]>
  Chengming Zhou <[email protected]>
  Chris Down <[email protected]>
  Cong Wang <[email protected]>
  Dan Carpenter <[email protected]>
  Dany Madden <[email protected]>
  David Ahern <[email protected]>
  David Ahern <[email protected]>
  David S. Miller <[email protected]>
  Edwin Peer <[email protected]>
  Eric Dumazet <[email protected]>
  Erik Rockstrom <[email protected]>
  Florian Fainelli <[email protected]>
  Ganji Aravind <[email protected]>
  Greg Kroah-Hartman <[email protected]>
  Guenter Roeck <[email protected]>
  Hauke Mehrtens <[email protected]>
  Henry Ptasinski <[email protected]>
  Ido Schimmel <[email protected]>
  Jakub Kicinski <[email protected]>
  Joerg Roedel <[email protected]>
  Johannes Weiner <[email protected]>
  Jon Hunter <[email protected]>
  Julius Hemanth Pitti <[email protected]>
  Linus Torvalds <[email protected]>
  Linus Walleij <[email protected]>
  Linux Kernel Functional Testing <[email protected]>
  Manivannan Sadhasivam <[email protected]>
  Maor Dickman <[email protected]>
  Maor Gottlieb <[email protected]>
  Marcelo Ricardo Leitner <[email protected]>
  Mark Gray <[email protected]>
  Mark Salyzyn <[email protected]>
  Masami Hiramatsu <[email protected]>
  Michael Chan <[email protected]>
  Michal Hocko <[email protected]>
  Mingming Cao <[email protected]>
  Muchun Song <[email protected]>
  Necip Fazil Yildiran <[email protected]>
  Peilin Ye <[email protected]>
  Petr Machata <[email protected]>
  Qiuyu Xiao <[email protected]>
  Raju Rangoju <[email protected]>
  Ralph Campbell <[email protected]>
  Saeed Mahameed <[email protected]>
  Saeed Mahameed <[email protected]>
  Sasha Levin <[email protected]>
  Shuah Khan <[email protected]>
  Steffen Klassert <[email protected]>
  Suravee Suthikulpanit <[email protected]>
  Tariq Toukan <[email protected]>
  Tetsuo Handa <[email protected]>
  Vasundhara Volam <[email protected]>
  Vinicius Costa Gomes <[email protected]>
  Vladimir Oltean <[email protected]>
  Wei Wang <[email protected]>
  Xin Long <[email protected]>
  Xunlei Pang <[email protected]>
  Ying Xue <[email protected]>
  Yunsheng Lin <[email protected]>

jobs:
 build-amd64-xsm                                              preparing
 build-arm64-xsm                                              broken  
 build-i386-xsm                                               broken  
 build-amd64                                                  broken  
 build-arm64                                                  broken  
 build-armhf                                                  broken  
 build-i386                                                   broken  
 build-amd64-libvirt                                          blocked 
 build-arm64-libvirt                                          blocked 
 build-armhf-libvirt                                          blocked 
 build-i386-libvirt                                           blocked 
 build-amd64-pvops                                            broken  
 build-arm64-pvops                                            broken  
 build-armhf-pvops                                            preparing
 build-i386-pvops                                             broken  
 test-amd64-amd64-xl                                          blocked 
 test-amd64-coresched-amd64-xl                                blocked 
 test-arm64-arm64-xl                                          blocked 
 test-armhf-armhf-xl                                          queued  
 test-amd64-i386-xl                                           blocked 
 test-amd64-coresched-i386-xl                                 blocked 
 test-amd64-amd64-libvirt-qemuu-debianhvm-amd64-xsm           queued  
 test-amd64-i386-libvirt-qemuu-debianhvm-amd64-xsm            queued  
 test-amd64-amd64-xl-qemut-stubdom-debianhvm-amd64-xsm        queued  
 test-amd64-i386-xl-qemut-stubdom-debianhvm-amd64-xsm         queued  
 test-amd64-amd64-xl-qemut-debianhvm-i386-xsm                 queued  
 test-amd64-i386-xl-qemut-debianhvm-i386-xsm                  queued  
 test-amd64-amd64-xl-qemuu-debianhvm-i386-xsm                 queued  
 test-amd64-i386-xl-qemuu-debianhvm-i386-xsm                  queued  
 test-amd64-amd64-libvirt-xsm                                 queued  
 test-arm64-arm64-libvirt-xsm                                 blocked 
 test-amd64-i386-libvirt-xsm                                  queued  
 test-amd64-amd64-xl-xsm                                      queued  
 test-arm64-arm64-xl-xsm                                      blocked 
 test-amd64-i386-xl-xsm                                       queued  
 test-amd64-amd64-qemuu-nested-amd                            blocked 
 test-amd64-amd64-xl-pvhv2-amd                                blocked 
 test-amd64-i386-qemut-rhel6hvm-amd                           blocked 
 test-amd64-i386-qemuu-rhel6hvm-amd                           blocked 
 test-amd64-amd64-dom0pvh-xl-amd                              blocked 
 test-amd64-amd64-xl-qemut-debianhvm-amd64                    blocked 
 test-amd64-i386-xl-qemut-debianhvm-amd64                     blocked 
 test-amd64-amd64-xl-qemuu-debianhvm-amd64                    blocked 
 test-amd64-i386-xl-qemuu-debianhvm-amd64                     blocked 
 test-amd64-i386-freebsd10-amd64                              blocked 
 test-amd64-amd64-qemuu-freebsd11-amd64                       blocked 
 test-amd64-amd64-qemuu-freebsd12-amd64                       blocked 
 test-amd64-amd64-xl-qemuu-ovmf-amd64                         blocked 
 test-amd64-i386-xl-qemuu-ovmf-amd64                          blocked 
 test-amd64-amd64-xl-qemut-win7-amd64                         blocked 
 test-amd64-i386-xl-qemut-win7-amd64                          blocked 
 test-amd64-amd64-xl-qemuu-win7-amd64                         blocked 
 test-amd64-i386-xl-qemuu-win7-amd64                          blocked 
 test-amd64-amd64-xl-qemut-ws16-amd64                         blocked 
 test-amd64-i386-xl-qemut-ws16-amd64                          blocked 
 test-amd64-amd64-xl-qemuu-ws16-amd64                         blocked 
 test-amd64-i386-xl-qemuu-ws16-amd64                          blocked 
 test-armhf-armhf-xl-arndale                                  queued  
 test-amd64-amd64-xl-credit1                                  blocked 
 test-arm64-arm64-xl-credit1                                  blocked 
 test-armhf-armhf-xl-credit1                                  queued  
 test-amd64-amd64-xl-credit2                                  blocked 
 test-arm64-arm64-xl-credit2                                  blocked 
 test-armhf-armhf-xl-credit2                                  queued  
 test-armhf-armhf-xl-cubietruck                               queued  
 test-amd64-amd64-xl-qemuu-dmrestrict-amd64-dmrestrict        blocked 
 test-amd64-i386-xl-qemuu-dmrestrict-amd64-dmrestrict         blocked 
 test-amd64-amd64-examine                                     blocked 
 test-arm64-arm64-examine                                     blocked 
 test-armhf-armhf-examine                                     queued  
 test-amd64-i386-examine                                      blocked 
 test-amd64-i386-freebsd10-i386                               blocked 
 test-amd64-amd64-qemuu-nested-intel                          blocked 
 test-amd64-amd64-xl-pvhv2-intel                              blocked 
 test-amd64-i386-qemut-rhel6hvm-intel                         blocked 
 test-amd64-i386-qemuu-rhel6hvm-intel                         blocked 
 test-amd64-amd64-dom0pvh-xl-intel                            blocked 
 test-amd64-amd64-libvirt                                     blocked 
 test-armhf-armhf-libvirt                                     queued  
 test-amd64-i386-libvirt                                      blocked 
 test-amd64-amd64-xl-multivcpu                                blocked 
 test-armhf-armhf-xl-multivcpu                                queued  
 test-amd64-amd64-pair                                        blocked 
 test-amd64-i386-pair                                         blocked 
 test-amd64-amd64-libvirt-pair                                blocked 
 test-amd64-i386-libvirt-pair                                 blocked 
 test-amd64-amd64-amd64-pvgrub                                blocked 
 test-amd64-amd64-i386-pvgrub                                 blocked 
 test-amd64-amd64-xl-pvshim                                   blocked 
 test-amd64-i386-xl-pvshim                                    blocked 
 test-amd64-amd64-pygrub                                      blocked 
 test-amd64-amd64-xl-qcow2                                    blocked 
 test-armhf-armhf-libvirt-raw                                 queued  
 test-amd64-i386-xl-raw                                       blocked 
 test-amd64-amd64-xl-rtds                                     blocked 
 test-armhf-armhf-xl-rtds                                     queued  
 test-arm64-arm64-xl-seattle                                  blocked 
 test-amd64-amd64-xl-qemuu-debianhvm-amd64-shadow             blocked 
 test-amd64-i386-xl-qemuu-debianhvm-amd64-shadow              blocked 
 test-amd64-amd64-xl-shadow                                   blocked 
 test-amd64-i386-xl-shadow                                    blocked 
 test-arm64-arm64-xl-thunderx                                 blocked 
 test-amd64-amd64-libvirt-vhd                                 blocked 
 test-armhf-armhf-xl-vhd                                      queued  


------------------------------------------------------------
sg-report-flight on osstest.test-lab.xenproject.org
logs: /home/logs/logs
images: /home/logs/images

Logs, config files, etc. are available at
    http://logs.test-lab.xenproject.org/osstest/logs

Explanation of these reports, and of osstest in general, is at
    http://xenbits.xen.org/gitweb/?p=osstest.git;a=blob;f=README.email;hb=master
    http://xenbits.xen.org/gitweb/?p=osstest.git;a=blob;f=README;hb=master

Test harness code can be found at
    http://xenbits.xen.org/gitweb?p=osstest.git;a=summary

broken-job test-armhf-armhf-examine queued
broken-job test-armhf-armhf-libvirt queued
broken-job test-armhf-armhf-libvirt-raw queued
broken-job test-armhf-armhf-xl queued
broken-job test-armhf-armhf-xl-arndale queued
broken-job test-armhf-armhf-xl-credit1 queued
broken-job test-armhf-armhf-xl-credit2 queued
broken-job test-armhf-armhf-xl-cubietruck queued
broken-job test-armhf-armhf-xl-multivcpu queued
broken-job test-armhf-armhf-xl-rtds queued
broken-job test-armhf-armhf-xl-vhd queued
broken-job test-amd64-amd64-xl-xsm queued
broken-job test-amd64-amd64-xl-qemuu-debianhvm-i386-xsm queued
broken-job build-amd64 broken
broken-job build-amd64-pvops broken
broken-job build-arm64 broken
broken-job build-arm64-pvops broken
broken-job build-arm64-xsm broken
broken-job test-amd64-amd64-xl-qemut-stubdom-debianhvm-amd64-xsm queued
broken-job build-armhf broken
broken-job test-amd64-amd64-xl-qemut-debianhvm-i386-xsm queued
broken-job build-i386 broken
broken-job build-i386-pvops broken
broken-job build-i386-xsm broken
broken-job test-amd64-amd64-libvirt-qemuu-debianhvm-amd64-xsm queued
broken-job test-amd64-amd64-libvirt-xsm queued
broken-job test-amd64-i386-xl-xsm queued
broken-job test-amd64-i386-libvirt-qemuu-debianhvm-amd64-xsm queued
broken-job test-amd64-i386-libvirt-xsm queued
broken-job test-amd64-i386-xl-qemut-debianhvm-i386-xsm queued
broken-job test-amd64-i386-xl-qemut-stubdom-debianhvm-amd64-xsm queued
broken-job test-amd64-i386-xl-qemuu-debianhvm-i386-xsm queued
broken-step build-i386-xsm host-install(4)
broken-step build-i386 host-install(4)
broken-step build-i386-pvops host-install(4)
broken-step build-arm64 host-install(4)
broken-step build-arm64-xsm host-install(4)
broken-step build-arm64-pvops host-install(4)
broken-step build-amd64-pvops host-install(4)
broken-step build-amd64 host-install(4)
broken-step build-armhf host-install(4)

Not pushing.

(No revision log; it would be 1420 lines long.)

Reply via email to