flight 154021 ovmf real [real]
http://logs.test-lab.xenproject.org/osstest/logs/154021/

Perfect :-)
All tests in this flight passed as required
version targeted for testing:
 ovmf                 317d84abe3bfbdff10ae1cc4f38b49307838c6c4
baseline version:
 ovmf                 63d92674d240ab4ecab94f98e1e198842bb7de00

Last test of basis   152863  2020-08-26 16:09:47 Z   13 days
Failing since        152915  2020-08-27 18:09:42 Z   12 days  212 attempts
Testing same since   153990  2020-09-09 01:40:04 Z    0 days   10 attempts

------------------------------------------------------------
People who touched revisions under test:
  Abner Chang <[email protected]>
  Bob Feng <[email protected]>
  Guo Dong <[email protected]>
  Laszlo Ersek <[email protected]>
  Marcello Sylvester Bauer <[email protected]>
  Patrick Rudolph <[email protected]>
  Paul <[email protected]>
  Paul G <[email protected]>
  Qi Zhang <[email protected]>
  Shenglei Zhang <[email protected]>
  Wenyi Xie <[email protected]>
  Zhang, Shenglei <[email protected]>
  Zhichao Gao <[email protected]>
  Zhiguang Liu <[email protected]>

jobs:
 build-amd64-xsm                                              pass    
 build-i386-xsm                                               pass    
 build-amd64                                                  pass    
 build-i386                                                   pass    
 build-amd64-libvirt                                          pass    
 build-i386-libvirt                                           pass    
 build-amd64-pvops                                            pass    
 build-i386-pvops                                             pass    
 test-amd64-amd64-xl-qemuu-ovmf-amd64                         pass    
 test-amd64-i386-xl-qemuu-ovmf-amd64                          pass    


------------------------------------------------------------
sg-report-flight on osstest.test-lab.xenproject.org
logs: /home/logs/logs
images: /home/logs/images

Logs, config files, etc. are available at
    http://logs.test-lab.xenproject.org/osstest/logs

Explanation of these reports, and of osstest in general, is at
    http://xenbits.xen.org/gitweb/?p=osstest.git;a=blob;f=README.email;hb=master
    http://xenbits.xen.org/gitweb/?p=osstest.git;a=blob;f=README;hb=master

Test harness code can be found at
    http://xenbits.xen.org/gitweb?p=osstest.git;a=summary


Pushing revision :

To xenbits.xen.org:/home/xen/git/osstest/ovmf.git
   63d92674d2..317d84abe3  317d84abe3bfbdff10ae1cc4f38b49307838c6c4 -> 
xen-tested-master

Reply via email to