flight 152517 ovmf real [real]
http://logs.test-lab.xenproject.org/osstest/logs/152517/

Perfect :-)
All tests in this flight passed as required
version targeted for testing:
 ovmf                 9565ab67c2095a5ea893e63561a49aedf3387b8f
baseline version:
 ovmf                 8834e10b30125daa47da9f6c5c1a41b4eafbae7f

Last test of basis   152504  2020-08-06 12:15:14 Z    1 days
Testing same since   152517  2020-08-07 09:02:31 Z    0 days    1 attempts

------------------------------------------------------------
People who touched revisions under test:
  Ard Biesheuvel <[email protected]>
  Bob Feng <[email protected]>
  Feng, Bob C <[email protected]>
  Gao, Zhichao <[email protected]>
  Laszlo Ersek <[email protected]>
  Michael D Kinney <[email protected]>
  Michael Kubacki <[email protected]>
  Samer El-Haj-Mahmoud <[email protected]>
  Zhichao Gao <[email protected]>

jobs:
 build-amd64-xsm                                              pass    
 build-i386-xsm                                               pass    
 build-amd64                                                  pass    
 build-i386                                                   pass    
 build-amd64-libvirt                                          pass    
 build-i386-libvirt                                           pass    
 build-amd64-pvops                                            pass    
 build-i386-pvops                                             pass    
 test-amd64-amd64-xl-qemuu-ovmf-amd64                         pass    
 test-amd64-i386-xl-qemuu-ovmf-amd64                          pass    


------------------------------------------------------------
sg-report-flight on osstest.test-lab.xenproject.org
logs: /home/logs/logs
images: /home/logs/images

Logs, config files, etc. are available at
    http://logs.test-lab.xenproject.org/osstest/logs

Explanation of these reports, and of osstest in general, is at
    http://xenbits.xen.org/gitweb/?p=osstest.git;a=blob;f=README.email;hb=master
    http://xenbits.xen.org/gitweb/?p=osstest.git;a=blob;f=README;hb=master

Test harness code can be found at
    http://xenbits.xen.org/gitweb?p=osstest.git;a=summary


Pushing revision :

To xenbits.xen.org:/home/xen/git/osstest/ovmf.git
   8834e10b30..9565ab67c2  9565ab67c2095a5ea893e63561a49aedf3387b8f -> 
xen-tested-master

Reply via email to