flight 152385 xen-unstable-coverity real [real]
http://logs.test-lab.xenproject.org/osstest/logs/152385/

Perfect :-)
All tests in this flight passed as required
version targeted for testing:
 xen                  81fd0d3ca4b2cd309403c6e8da662c325dd35750
baseline version:
 xen                  b071ec25e85c4aacf3da59e5258cda0b1c4df45d

Last test of basis   152283  2020-07-29 09:19:04 Z    4 days
Testing same since   152385  2020-08-02 09:18:50 Z    0 days    1 attempts

------------------------------------------------------------
People who touched revisions under test:
  Andrew Cooper <[email protected]>
  Fam Zheng <[email protected]>
  Ian Jackson <[email protected]>
  Jan Beulich <[email protected]>
  Olaf Hering <[email protected]>
  Paul Durrant <[email protected]>
  Roger Pau Monne <[email protected]>
  Roger Pau MonnĂ© <[email protected]>
  Tim Deegan <[email protected]>

jobs:
 coverity-amd64                                               pass    


------------------------------------------------------------
sg-report-flight on osstest.test-lab.xenproject.org
logs: /home/logs/logs
images: /home/logs/images

Logs, config files, etc. are available at
    http://logs.test-lab.xenproject.org/osstest/logs

Explanation of these reports, and of osstest in general, is at
    http://xenbits.xen.org/gitweb/?p=osstest.git;a=blob;f=README.email;hb=master
    http://xenbits.xen.org/gitweb/?p=osstest.git;a=blob;f=README;hb=master

Test harness code can be found at
    http://xenbits.xen.org/gitweb?p=osstest.git;a=summary


Pushing revision :

To xenbits.xen.org:/home/xen/git/xen.git
   b071ec25e8..81fd0d3ca4  81fd0d3ca4b2cd309403c6e8da662c325dd35750 -> 
coverity-tested/smoke

Reply via email to