flight 151187 ovmf real [real]
http://logs.test-lab.xenproject.org/osstest/logs/151187/

Perfect :-)
All tests in this flight passed as required
version targeted for testing:
 ovmf                 58ae92a993687d913aa6dd00ef3497a1bc5f6c40
baseline version:
 ovmf                 8927e2777786a43cddfaa328b0f4c41a09c629c9

Last test of basis   151162  2020-06-16 01:58:37 Z    2 days
Testing same since   151187  2020-06-17 09:28:29 Z    1 days    1 attempts

------------------------------------------------------------
People who touched revisions under test:
  Ard Biesheuvel <[email protected]>
  Ilias Apalodimas <[email protected]>
  Jiewen Yao <[email protected]>
  Laszlo Ersek <[email protected]>
  Ming Tan <[email protected]>
  Tan, Ming <[email protected]>

jobs:
 build-amd64-xsm                                              pass    
 build-i386-xsm                                               pass    
 build-amd64                                                  pass    
 build-i386                                                   pass    
 build-amd64-libvirt                                          pass    
 build-i386-libvirt                                           pass    
 build-amd64-pvops                                            pass    
 build-i386-pvops                                             pass    
 test-amd64-amd64-xl-qemuu-ovmf-amd64                         pass    
 test-amd64-i386-xl-qemuu-ovmf-amd64                          pass    


------------------------------------------------------------
sg-report-flight on osstest.test-lab.xenproject.org
logs: /home/logs/logs
images: /home/logs/images

Logs, config files, etc. are available at
    http://logs.test-lab.xenproject.org/osstest/logs

Explanation of these reports, and of osstest in general, is at
    http://xenbits.xen.org/gitweb/?p=osstest.git;a=blob;f=README.email;hb=master
    http://xenbits.xen.org/gitweb/?p=osstest.git;a=blob;f=README;hb=master

Test harness code can be found at
    http://xenbits.xen.org/gitweb?p=osstest.git;a=summary


Pushing revision :

To xenbits.xen.org:/home/xen/git/osstest/ovmf.git
   8927e27777..58ae92a993  58ae92a993687d913aa6dd00ef3497a1bc5f6c40 -> 
xen-tested-master

Reply via email to