flight 148699 xen-unstable-coverity real [real] http://logs.test-lab.xenproject.org/osstest/logs/148699/
Perfect :-) All tests in this flight passed as required version targeted for testing: xen 1faa954df18733792c33b3f5b1b4de4662cfa892 baseline version: xen d094e95fb7c61c5f46d8e446b4bdc028438dea1c Last test of basis 148590 2020-03-15 09:23:32 Z 3 days Testing same since 148699 2020-03-18 09:29:58 Z 0 days 1 attempts ------------------------------------------------------------ People who touched revisions under test: Andrew Cooper <[email protected]> David Gibson <[email protected]> Jan Beulich <[email protected]> Juergen Gross <[email protected]> Julien Grall <[email protected]> Wei Liu <[email protected]> jobs: coverity-amd64 pass ------------------------------------------------------------ sg-report-flight on osstest.test-lab.xenproject.org logs: /home/logs/logs images: /home/logs/images Logs, config files, etc. are available at http://logs.test-lab.xenproject.org/osstest/logs Explanation of these reports, and of osstest in general, is at http://xenbits.xen.org/gitweb/?p=osstest.git;a=blob;f=README.email;hb=master http://xenbits.xen.org/gitweb/?p=osstest.git;a=blob;f=README;hb=master Test harness code can be found at http://xenbits.xen.org/gitweb?p=osstest.git;a=summary Pushing revision : To xenbits.xen.org:/home/xen/git/xen.git d094e95fb7..1faa954df1 1faa954df18733792c33b3f5b1b4de4662cfa892 -> coverity-tested/smoke _______________________________________________ Xen-devel mailing list [email protected] https://lists.xenproject.org/mailman/listinfo/xen-devel
