flight 141220 xen-unstable-coverity real [real]
http://logs.test-lab.xenproject.org/osstest/logs/141220/

Perfect :-)
All tests in this flight passed as required
version targeted for testing:
 xen                  4e4a850aa42f9d1573978703e69f6177190dc9f7
baseline version:
 xen                  a342900d4835c127c1466c5abc1323a666e8cebd

Last test of basis   141002  2019-09-04 09:19:28 Z    7 days
Failing since        141143  2019-09-08 09:18:22 Z    3 days    2 attempts
Testing same since   141220  2019-09-11 09:19:29 Z    0 days    1 attempts

------------------------------------------------------------
People who touched revisions under test:
  Alexandru Isaila <[email protected]>
  Alexandru Stefan ISAILA <[email protected]>
  Andrew Cooper <[email protected]>
  Bandan Das <[email protected]>
  Christian Lindig <[email protected]>
  Ian Jackson <[email protected]>
  Jan Beulich <[email protected]>
  Juergen Gross <[email protected]>
  Julien Grall <[email protected]>
  Kevin Tian <[email protected]>
  Roger Pau Monne <[email protected]>
  Roger Pau MonnĂ© <[email protected]>
  Stefano Stabellini <[email protected]>
  Tim Deegan <[email protected]>
  Zhang Rui <[email protected]>

jobs:
 coverity-amd64                                               pass    


------------------------------------------------------------
sg-report-flight on osstest.test-lab.xenproject.org
logs: /home/logs/logs
images: /home/logs/images

Logs, config files, etc. are available at
    http://logs.test-lab.xenproject.org/osstest/logs

Explanation of these reports, and of osstest in general, is at
    http://xenbits.xen.org/gitweb/?p=osstest.git;a=blob;f=README.email;hb=master
    http://xenbits.xen.org/gitweb/?p=osstest.git;a=blob;f=README;hb=master

Test harness code can be found at
    http://xenbits.xen.org/gitweb?p=osstest.git;a=summary


Pushing revision :

To xenbits.xen.org:/home/xen/git/xen.git
   a342900d48..4e4a850aa4  4e4a850aa42f9d1573978703e69f6177190dc9f7 -> 
coverity-tested/smoke

_______________________________________________
Xen-devel mailing list
[email protected]
https://lists.xenproject.org/mailman/listinfo/xen-devel

Reply via email to