flight 140660 freebsd-master real [real]
http://logs.test-lab.xenproject.org/osstest/logs/140660/

Perfect :-)
All tests in this flight passed as required
version targeted for testing:
 freebsd              4438d71949e8a59f2ac2349a450f6965fee6c6e4
baseline version:
 freebsd              1347212622414842dae7ecda75cbfdd1e5c4cfee

Last test of basis   140570  2019-08-23 09:19:55 Z    3 days
Testing same since   140660  2019-08-26 09:20:30 Z    0 days    1 attempts

------------------------------------------------------------
People who touched revisions under test:
  0mp <[email protected]>
  asomers <[email protected]>
  delphij <[email protected]>
  dougm <[email protected]>
  emaste <[email protected]>
  eugen <[email protected]>
  ganbold <[email protected]>
  hrs <[email protected]>
  imp <[email protected]>
  jhb <[email protected]>
  jhibbits <[email protected]>
  kevans <[email protected]>
  kib <[email protected]>
  kp <[email protected]>
  lwhsu <[email protected]>
  markj <[email protected]>
  mav <[email protected]>
  mjg <[email protected]>
  np <[email protected]>
  vmaffione <[email protected]>

jobs:
 build-amd64-freebsd-again                                    pass    
 build-amd64-freebsd                                          pass    
 build-amd64-xen-freebsd                                      pass    


------------------------------------------------------------
sg-report-flight on osstest.test-lab.xenproject.org
logs: /home/logs/logs
images: /home/logs/images

Logs, config files, etc. are available at
    http://logs.test-lab.xenproject.org/osstest/logs

Explanation of these reports, and of osstest in general, is at
    http://xenbits.xen.org/gitweb/?p=osstest.git;a=blob;f=README.email;hb=master
    http://xenbits.xen.org/gitweb/?p=osstest.git;a=blob;f=README;hb=master

Test harness code can be found at
    http://xenbits.xen.org/gitweb?p=osstest.git;a=summary


Pushing revision :

To xenbits.xen.org:/home/xen/git/freebsd.git
   13472126224..4438d71949e  4438d71949e8a59f2ac2349a450f6965fee6c6e4 -> 
tested/master

_______________________________________________
Xen-devel mailing list
[email protected]
https://lists.xenproject.org/mailman/listinfo/xen-devel

Reply via email to