flight 139859 ovmf real [real] http://logs.test-lab.xenproject.org/osstest/logs/139859/
Perfect :-) All tests in this flight passed as required version targeted for testing: ovmf 4b1b7c1913092d73d689d8086dcfa579c0217dc8 baseline version: ovmf 35ec41803c33cb3b6977f5dd8e5c0cc3ff2bbcea Last test of basis 139843 2019-08-08 18:51:05 Z 1 days Testing same since 139859 2019-08-09 09:15:04 Z 0 days 1 attempts ------------------------------------------------------------ People who touched revisions under test: Eric Dong <[email protected]> Gary West <[email protected]> Ni, Ray <[email protected]> Ray Ni <[email protected]> jobs: build-amd64-xsm pass build-i386-xsm pass build-amd64 pass build-i386 pass build-amd64-libvirt pass build-i386-libvirt pass build-amd64-pvops pass build-i386-pvops pass test-amd64-amd64-xl-qemuu-ovmf-amd64 pass test-amd64-i386-xl-qemuu-ovmf-amd64 pass ------------------------------------------------------------ sg-report-flight on osstest.test-lab.xenproject.org logs: /home/logs/logs images: /home/logs/images Logs, config files, etc. are available at http://logs.test-lab.xenproject.org/osstest/logs Explanation of these reports, and of osstest in general, is at http://xenbits.xen.org/gitweb/?p=osstest.git;a=blob;f=README.email;hb=master http://xenbits.xen.org/gitweb/?p=osstest.git;a=blob;f=README;hb=master Test harness code can be found at http://xenbits.xen.org/gitweb?p=osstest.git;a=summary Pushing revision : To xenbits.xen.org:/home/xen/git/osstest/ovmf.git 35ec41803c..4b1b7c1913 4b1b7c1913092d73d689d8086dcfa579c0217dc8 -> xen-tested-master _______________________________________________ Xen-devel mailing list [email protected] https://lists.xenproject.org/mailman/listinfo/xen-devel
