flight 138914 ovmf real [real]
http://logs.test-lab.xenproject.org/osstest/logs/138914/

Perfect :-)
All tests in this flight passed as required
version targeted for testing:
 ovmf                 91cc60bafc7d6e49b7bc85990f895d6228f51364
baseline version:
 ovmf                 8df52631e53c73cbe5ef037155cc5b6bdc87f757

Last test of basis   138896  2019-07-10 20:29:44 Z    2 days
Testing same since   138914  2019-07-12 03:13:50 Z    0 days    1 attempts

------------------------------------------------------------
People who touched revisions under test:
  Antoine Cœur <[email protected]>
  Cœur <[email protected]>
  Liming Gao <[email protected]>
  Star Zeng <[email protected]>

jobs:
 build-amd64-xsm                                              pass    
 build-i386-xsm                                               pass    
 build-amd64                                                  pass    
 build-i386                                                   pass    
 build-amd64-libvirt                                          pass    
 build-i386-libvirt                                           pass    
 build-amd64-pvops                                            pass    
 build-i386-pvops                                             pass    
 test-amd64-amd64-xl-qemuu-ovmf-amd64                         pass    
 test-amd64-i386-xl-qemuu-ovmf-amd64                          pass    


------------------------------------------------------------
sg-report-flight on osstest.test-lab.xenproject.org
logs: /home/logs/logs
images: /home/logs/images

Logs, config files, etc. are available at
    http://logs.test-lab.xenproject.org/osstest/logs

Explanation of these reports, and of osstest in general, is at
    http://xenbits.xen.org/gitweb/?p=osstest.git;a=blob;f=README.email;hb=master
    http://xenbits.xen.org/gitweb/?p=osstest.git;a=blob;f=README;hb=master

Test harness code can be found at
    http://xenbits.xen.org/gitweb?p=osstest.git;a=summary


Pushing revision :

To xenbits.xen.org:/home/xen/git/osstest/ovmf.git
   8df52631e5..91cc60bafc  91cc60bafc7d6e49b7bc85990f895d6228f51364 -> 
xen-tested-master

_______________________________________________
Xen-devel mailing list
[email protected]
https://lists.xenproject.org/mailman/listinfo/xen-devel

Reply via email to