flight 138886 freebsd-master real [real]
http://logs.test-lab.xenproject.org/osstest/logs/138886/

Perfect :-)
All tests in this flight passed as required
version targeted for testing:
 freebsd              5c4a9b0e32c1f9c47d5b687d6036bb03c3cc071c
baseline version:
 freebsd              14e63f898b16382f4577cfea211a7fb5ad7983e9

Last test of basis   138540  2019-06-26 09:23:06 Z   14 days
Failing since        138606  2019-06-28 09:19:28 Z   12 days    6 attempts
Testing same since   138886  2019-07-10 09:19:38 Z    0 days    1 attempts

------------------------------------------------------------
People who touched revisions under test:
  alc <[email protected]>
  arichardson <[email protected]>
  asomers <[email protected]>
  avg <[email protected]>
  bcran <[email protected]>
  bdrewery <[email protected]>
  br <[email protected]>
  cognet <[email protected]>
  cy <[email protected]>
  delphij <[email protected]>
  des <[email protected]>
  dim <[email protected]>
  dougm <[email protected]>
  emaste <[email protected]>
  fsu <[email protected]>
  ganbold <[email protected]>
  hrs <[email protected]>
  hselasky <[email protected]>
  ian <[email protected]>
  imp <[email protected]>
  jhb <[email protected]>
  jhibbits <[email protected]>
  jkim <[email protected]>
  kevans <[email protected]>
  kib <[email protected]>
  landonf <[email protected]>
  loos <[email protected]>
  luporl <[email protected]>
  lwhsu <[email protected]>
  manu <[email protected]>
  marcel <[email protected]>
  marius <[email protected]>
  markj <[email protected]>
  mav <[email protected]>
  mckusick <[email protected]>
  meta <[email protected]>
  mhorne <[email protected]>
  mm <[email protected]>
  np <[email protected]>
  philip <[email protected]>
  rgrimes <[email protected]>
  rlibby <[email protected]>
  rmacklem <[email protected]>
  seanc <[email protected]>
  sjg <[email protected]>
  tijl <[email protected]>
  trasz <[email protected]>
  tsoome <[email protected]>
  vangyzen <[email protected]>
  vmaffione <[email protected]>
  wblock <[email protected]>
  whu <[email protected]>
  zeising <[email protected]>

jobs:
 build-amd64-freebsd-again                                    pass    
 build-amd64-freebsd                                          pass    
 build-amd64-xen-freebsd                                      pass    


------------------------------------------------------------
sg-report-flight on osstest.test-lab.xenproject.org
logs: /home/logs/logs
images: /home/logs/images

Logs, config files, etc. are available at
    http://logs.test-lab.xenproject.org/osstest/logs

Explanation of these reports, and of osstest in general, is at
    http://xenbits.xen.org/gitweb/?p=osstest.git;a=blob;f=README.email;hb=master
    http://xenbits.xen.org/gitweb/?p=osstest.git;a=blob;f=README;hb=master

Test harness code can be found at
    http://xenbits.xen.org/gitweb?p=osstest.git;a=summary


Pushing revision :

To xenbits.xen.org:/home/xen/git/freebsd.git
   14e63f898b1..5c4a9b0e32c  5c4a9b0e32c1f9c47d5b687d6036bb03c3cc071c -> 
tested/master

_______________________________________________
Xen-devel mailing list
[email protected]
https://lists.xenproject.org/mailman/listinfo/xen-devel

Reply via email to