flight 138884 xen-unstable-coverity real [real]
http://logs.test-lab.xenproject.org/osstest/logs/138884/

Perfect :-)
All tests in this flight passed as required
version targeted for testing:
 xen                  8706d38479218dcf549a94516918c3e3b30a7bb0
baseline version:
 xen                  843cec0de800a5f925f8071a7f58f3fb1c6b6eb6

Last test of basis   138808  2019-07-07 09:18:48 Z    3 days
Testing same since   138884  2019-07-10 09:19:02 Z    0 days    1 attempts

------------------------------------------------------------
People who touched revisions under test:
  Amit Singh Tomar <[email protected]>
  Andrew Cooper <[email protected]>
  Joe Perches <[email protected]>
  Julien Grall <[email protected]>
  Paul Durrant <[email protected]>
  Volodymyr Babchuk <[email protected]>
  Will Abele <[email protected]>

jobs:
 coverity-amd64                                               pass    


------------------------------------------------------------
sg-report-flight on osstest.test-lab.xenproject.org
logs: /home/logs/logs
images: /home/logs/images

Logs, config files, etc. are available at
    http://logs.test-lab.xenproject.org/osstest/logs

Explanation of these reports, and of osstest in general, is at
    http://xenbits.xen.org/gitweb/?p=osstest.git;a=blob;f=README.email;hb=master
    http://xenbits.xen.org/gitweb/?p=osstest.git;a=blob;f=README;hb=master

Test harness code can be found at
    http://xenbits.xen.org/gitweb?p=osstest.git;a=summary


Pushing revision :

To xenbits.xen.org:/home/xen/git/xen.git
   843cec0de8..8706d38479  8706d38479218dcf549a94516918c3e3b30a7bb0 -> 
coverity-tested/smoke

_______________________________________________
Xen-devel mailing list
[email protected]
https://lists.xenproject.org/mailman/listinfo/xen-devel

Reply via email to