flight 138727 xen-unstable-coverity real [real] http://logs.test-lab.xenproject.org/osstest/logs/138727/
Perfect :-) All tests in this flight passed as required version targeted for testing: xen 93ef224d63f9f04a0897d64981c619eb4816c0d3 baseline version: xen cc07ec6107d23ee9a4237686711eede387741c08 Last test of basis 138648 2019-06-30 09:18:28 Z 3 days Testing same since 138727 2019-07-03 09:19:18 Z 0 days 1 attempts ------------------------------------------------------------ People who touched revisions under test: Anthony PERARD <[email protected]> Brian Woods <[email protected]> Jan Beulich <[email protected]> Paul Durrant <[email protected]> Wei Liu <[email protected]> jobs: coverity-amd64 pass ------------------------------------------------------------ sg-report-flight on osstest.test-lab.xenproject.org logs: /home/logs/logs images: /home/logs/images Logs, config files, etc. are available at http://logs.test-lab.xenproject.org/osstest/logs Explanation of these reports, and of osstest in general, is at http://xenbits.xen.org/gitweb/?p=osstest.git;a=blob;f=README.email;hb=master http://xenbits.xen.org/gitweb/?p=osstest.git;a=blob;f=README;hb=master Test harness code can be found at http://xenbits.xen.org/gitweb?p=osstest.git;a=summary Pushing revision : To xenbits.xen.org:/home/xen/git/xen.git cc07ec6107..93ef224d63 93ef224d63f9f04a0897d64981c619eb4816c0d3 -> coverity-tested/smoke _______________________________________________ Xen-devel mailing list [email protected] https://lists.xenproject.org/mailman/listinfo/xen-devel
