flight 137595 ovmf real [real] http://logs.test-lab.xenproject.org/osstest/logs/137595/
Perfect :-) All tests in this flight passed as required version targeted for testing: ovmf 562688707145df9d695f3fc3cb9524f3881f0e2c baseline version: ovmf f0718d1d6b47745a4249f4006807a45f2245dba1 Last test of basis 137503 2019-06-09 05:15:53 Z 3 days Testing same since 137595 2019-06-11 01:11:38 Z 1 days 1 attempts ------------------------------------------------------------ People who touched revisions under test: Christian Rodriguez <[email protected]> Chu, Maggie <[email protected]> Fan, ZhijuX <[email protected]> Hao A Wu <[email protected]> Krzysztof Koch <[email protected]> Maggie Chu <[email protected]> Pierre Gondois <[email protected]> Ray Ni <[email protected]> Rodriguez, Christian <[email protected]> Zhiju.Fan <[email protected]> jobs: build-amd64-xsm pass build-i386-xsm pass build-amd64 pass build-i386 pass build-amd64-libvirt pass build-i386-libvirt pass build-amd64-pvops pass build-i386-pvops pass test-amd64-amd64-xl-qemuu-ovmf-amd64 pass test-amd64-i386-xl-qemuu-ovmf-amd64 pass ------------------------------------------------------------ sg-report-flight on osstest.test-lab.xenproject.org logs: /home/logs/logs images: /home/logs/images Logs, config files, etc. are available at http://logs.test-lab.xenproject.org/osstest/logs Explanation of these reports, and of osstest in general, is at http://xenbits.xen.org/gitweb/?p=osstest.git;a=blob;f=README.email;hb=master http://xenbits.xen.org/gitweb/?p=osstest.git;a=blob;f=README;hb=master Test harness code can be found at http://xenbits.xen.org/gitweb?p=osstest.git;a=summary Pushing revision : To xenbits.xen.org:/home/xen/git/osstest/ovmf.git f0718d1d6b..5626887071 562688707145df9d695f3fc3cb9524f3881f0e2c -> xen-tested-master _______________________________________________ Xen-devel mailing list [email protected] https://lists.xenproject.org/mailman/listinfo/xen-devel
