flight 136000 freebsd-master real [real]
http://logs.test-lab.xenproject.org/osstest/logs/136000/

Perfect :-)
All tests in this flight passed as required
version targeted for testing:
 freebsd              fbc304aae0efb87e60f17c0a42ca7c8286c24f1f
baseline version:
 freebsd              d790588164713d9ba45e47c59146adf123abcce1

Last test of basis   135901  2019-05-08 11:18:16 Z    4 days
Testing same since   136000  2019-05-10 14:50:45 Z    2 days    1 attempts

------------------------------------------------------------
People who touched revisions under test:
  0mp <[email protected]>
  ae <[email protected]>
  antoine <[email protected]>
  br <[email protected]>
  brooks <[email protected]>
  cem <[email protected]>
  cperciva <[email protected]>
  emaste <[email protected]>
  erj <[email protected]>
  gallatin <[email protected]>
  glebius <[email protected]>
  hselasky <[email protected]>
  ian <[email protected]>
  imp <[email protected]>
  jhibbits <[email protected]>
  jkim <[email protected]>
  John Meneghini <[email protected]>
  kevans <[email protected]>
  kib <[email protected]>
  lwhsu <[email protected]>
  manu <[email protected]>
  marius <[email protected]>
  markj <[email protected]>
  mjg <[email protected]>
  mmacy <[email protected]>
  ngie <[email protected]>
  sjg <[email protected]>
  trasz <[email protected]>
  tsoome <[email protected]>
  tuexen <[email protected]>

jobs:
 build-amd64-freebsd-again                                    pass    
 build-amd64-freebsd                                          pass    
 build-amd64-xen-freebsd                                      pass    


------------------------------------------------------------
sg-report-flight on osstest.test-lab.xenproject.org
logs: /home/logs/logs
images: /home/logs/images

Logs, config files, etc. are available at
    http://logs.test-lab.xenproject.org/osstest/logs

Explanation of these reports, and of osstest in general, is at
    http://xenbits.xen.org/gitweb/?p=osstest.git;a=blob;f=README.email;hb=master
    http://xenbits.xen.org/gitweb/?p=osstest.git;a=blob;f=README;hb=master

Test harness code can be found at
    http://xenbits.xen.org/gitweb?p=osstest.git;a=summary


Pushing revision :

To xenbits.xen.org:/home/xen/git/freebsd.git
   d7905881647..fbc304aae0e  fbc304aae0efb87e60f17c0a42ca7c8286c24f1f -> 
tested/master

_______________________________________________
Xen-devel mailing list
[email protected]
https://lists.xenproject.org/mailman/listinfo/xen-devel

Reply via email to