flight 135530 ovmf real [real]
http://logs.test-lab.xenproject.org/osstest/logs/135530/

Perfect :-)
All tests in this flight passed as required
version targeted for testing:
 ovmf                 d027412258875cee485977fad39b1801beb50074
baseline version:
 ovmf                 20029ca22baaeb9418c1fd9df88d12d32d585cb6

Last test of basis   135318  2019-04-26 10:41:23 Z    8 days
Failing since        135371  2019-04-28 00:41:24 Z    6 days    4 attempts
Testing same since   135530  2019-05-02 07:22:34 Z    2 days    1 attempts

------------------------------------------------------------
People who touched revisions under test:
  "Tien Hock, Loh" <[email protected]>
  Anthony PERARD <[email protected]>
  Ard Biesheuvel <[email protected]>
  Bob Feng <[email protected]>
  Bret Barkelew <[email protected]>
  Dandan Bi <[email protected]>
  Fan, ZhijuX <[email protected]>
  Feng, Bob C <[email protected]>
  Hao Wu <[email protected]>
  Igor Druzhinin <[email protected]>
  Laszlo Ersek <[email protected]>
  Marcin Wojtas <[email protected]>
  Michael D Kinney <[email protected]>
  Shenglei Zhang <[email protected]>
  Tien Hock, Loh <[email protected]>
  Wang Fan <[email protected]>
  Wang, Fan <[email protected]>
  Xue ShengfengX <[email protected]>
  Xue, ShengfengX <[email protected]>
  Zhichao Gao <[email protected]>
  Zhiju.Fan <[email protected]>

jobs:
 build-amd64-xsm                                              pass    
 build-i386-xsm                                               pass    
 build-amd64                                                  pass    
 build-i386                                                   pass    
 build-amd64-libvirt                                          pass    
 build-i386-libvirt                                           pass    
 build-amd64-pvops                                            pass    
 build-i386-pvops                                             pass    
 test-amd64-amd64-xl-qemuu-ovmf-amd64                         pass    
 test-amd64-i386-xl-qemuu-ovmf-amd64                          pass    


------------------------------------------------------------
sg-report-flight on osstest.test-lab.xenproject.org
logs: /home/logs/logs
images: /home/logs/images

Logs, config files, etc. are available at
    http://logs.test-lab.xenproject.org/osstest/logs

Explanation of these reports, and of osstest in general, is at
    http://xenbits.xen.org/gitweb/?p=osstest.git;a=blob;f=README.email;hb=master
    http://xenbits.xen.org/gitweb/?p=osstest.git;a=blob;f=README;hb=master

Test harness code can be found at
    http://xenbits.xen.org/gitweb?p=osstest.git;a=summary


Pushing revision :

To xenbits.xen.org:/home/xen/git/osstest/ovmf.git
   20029ca22b..d027412258  d027412258875cee485977fad39b1801beb50074 -> 
xen-tested-master

_______________________________________________
Xen-devel mailing list
[email protected]
https://lists.xenproject.org/mailman/listinfo/xen-devel

Reply via email to