flight 135403 freebsd-master running [real]
http://logs.test-lab.xenproject.org/osstest/logs/135403/

Failures and problems with tests :-(

Tests which did not succeed and are blocking,
including tests which could not be run:
 build-amd64-freebsd-again       <none executed>              queued
 build-amd64-xen-freebsd         <none executed>              queued
 build-amd64-freebsd           4 syslog-server                running
 build-amd64-freebsd           7 freebsd-build                running

version targeted for testing:
 freebsd              6a06ed6af25f3f34c2776af1cc19a67672b68b8b
baseline version:
 freebsd              b58321507702a1125aed58ddc320b560b1bffc71

Last test of basis   135233  2019-04-24 09:19:03 Z    5 days
Failing since        135317  2019-04-26 09:19:06 Z    3 days    1 attempts
Testing same since                          (not found)         0 attempts

------------------------------------------------------------
People who touched revisions under test:
  ae <[email protected]>
  asomers <[email protected]>
  bcran <[email protected]>
  bde <[email protected]>
  br <[email protected]>
  cem <[email protected]>
  cy <[email protected]>
  emaste <[email protected]>
  gallatin <[email protected]>
  gonzo <[email protected]>
  hselasky <[email protected]>
  ian <[email protected]>
  imp <[email protected]>
  jhb <[email protected]>
  jhibbits <[email protected]>
  johalun <[email protected]>
  kevans <[email protected]>
  kib <[email protected]>
  lev <[email protected]>
  lwhsu <[email protected]>
  manu <[email protected]>
  mav <[email protected]>
  rgrimes <[email protected]>
  rmacklem <[email protected]>
  rwatson <[email protected]>
  shurd <[email protected]>
  trasz <[email protected]>
  tsoome <[email protected]>
  tuexen <[email protected]>
  tychon <[email protected]>

jobs:
 build-amd64-freebsd-again                                    queued  
 build-amd64-freebsd                                          running 
 build-amd64-xen-freebsd                                      queued  


------------------------------------------------------------
sg-report-flight on osstest.test-lab.xenproject.org
logs: /home/logs/logs
images: /home/logs/images

Logs, config files, etc. are available at
    http://logs.test-lab.xenproject.org/osstest/logs

Explanation of these reports, and of osstest in general, is at
    http://xenbits.xen.org/gitweb/?p=osstest.git;a=blob;f=README.email;hb=master
    http://xenbits.xen.org/gitweb/?p=osstest.git;a=blob;f=README;hb=master

Test harness code can be found at
    http://xenbits.xen.org/gitweb?p=osstest.git;a=summary

broken-job build-amd64-freebsd-again queued
broken-job build-amd64-xen-freebsd queued

Not pushing.

(No revision log; it would be 1274 lines long.)

_______________________________________________
Xen-devel mailing list
[email protected]
https://lists.xenproject.org/mailman/listinfo/xen-devel

Reply via email to