flight 135318 ovmf real [real]
http://logs.test-lab.xenproject.org/osstest/logs/135318/

Perfect :-)
All tests in this flight passed as required
version targeted for testing:
 ovmf                 20029ca22baaeb9418c1fd9df88d12d32d585cb6
baseline version:
 ovmf                 c2f643479eb3f00d930c461cdec3ba420a36072c

Last test of basis   134977  2019-04-19 04:02:54 Z    7 days
Failing since        135081  2019-04-22 01:42:54 Z    4 days   19 attempts
Testing same since   135295  2019-04-25 13:41:25 Z    1 days    4 attempts

------------------------------------------------------------
People who touched revisions under test:
  Aaron Antone <[email protected]>
  Ard Biesheuvel <[email protected]>
  Chasel Chiu <[email protected]>
  Christian Rodriguez <[email protected]>
  Dandan Bi <[email protected]>
  Fan, ZhijuX <[email protected]>
  Hao Wu <[email protected]>
  Laszlo Ersek <[email protected]>
  Marcin Wojtas <[email protected]>
  Rebecca Cran <[email protected]>
  rebecca via Groups.Io <[email protected]>
  Rodriguez, Christian <[email protected]>
  Shenglei Zhang <[email protected]>
  Ting Ye <[email protected]>
  Xue ShengfengX <[email protected]>
  Xue, ShengfengX <[email protected]>
  Ye, Ting <[email protected]>
  Yunhua Feng <[email protected]>
  Zhichao Gao <[email protected]>
  Zhiju.Fan <[email protected]>

jobs:
 build-amd64-xsm                                              pass    
 build-i386-xsm                                               pass    
 build-amd64                                                  pass    
 build-i386                                                   pass    
 build-amd64-libvirt                                          pass    
 build-i386-libvirt                                           pass    
 build-amd64-pvops                                            pass    
 build-i386-pvops                                             pass    
 test-amd64-amd64-xl-qemuu-ovmf-amd64                         pass    
 test-amd64-i386-xl-qemuu-ovmf-amd64                          pass    


------------------------------------------------------------
sg-report-flight on osstest.test-lab.xenproject.org
logs: /home/logs/logs
images: /home/logs/images

Logs, config files, etc. are available at
    http://logs.test-lab.xenproject.org/osstest/logs

Explanation of these reports, and of osstest in general, is at
    http://xenbits.xen.org/gitweb/?p=osstest.git;a=blob;f=README.email;hb=master
    http://xenbits.xen.org/gitweb/?p=osstest.git;a=blob;f=README;hb=master

Test harness code can be found at
    http://xenbits.xen.org/gitweb?p=osstest.git;a=summary


Pushing revision :

To xenbits.xen.org:/home/xen/git/osstest/ovmf.git
   c2f643479e..20029ca22b  20029ca22baaeb9418c1fd9df88d12d32d585cb6 -> 
xen-tested-master

_______________________________________________
Xen-devel mailing list
[email protected]
https://lists.xenproject.org/mailman/listinfo/xen-devel

Reply via email to