flight 134604 freebsd-master real [real] http://logs.test-lab.xenproject.org/osstest/logs/134604/
Perfect :-) All tests in this flight passed as required version targeted for testing: freebsd 80646d8a6d4ab70f09c8b4a732645c349d9a6a93 baseline version: freebsd 58aa509054ac8eaea95e3741132f5f7c7aab7f96 Last test of basis 134521 2019-04-08 09:20:11 Z 3 days Testing same since 134604 2019-04-10 09:19:04 Z 1 days 1 attempts ------------------------------------------------------------ People who touched revisions under test: avos <[email protected]> crees <[email protected]> emaste <[email protected]> ganbold <[email protected]> glebius <[email protected]> imp <[email protected]> jhb <[email protected]> kib <[email protected]> ngie <[email protected]> oshogbo <[email protected]> sjg <[email protected]> trasz <[email protected]> tychon <[email protected]> jobs: build-amd64-freebsd-again pass build-amd64-freebsd pass build-amd64-xen-freebsd pass ------------------------------------------------------------ sg-report-flight on osstest.test-lab.xenproject.org logs: /home/logs/logs images: /home/logs/images Logs, config files, etc. are available at http://logs.test-lab.xenproject.org/osstest/logs Explanation of these reports, and of osstest in general, is at http://xenbits.xen.org/gitweb/?p=osstest.git;a=blob;f=README.email;hb=master http://xenbits.xen.org/gitweb/?p=osstest.git;a=blob;f=README;hb=master Test harness code can be found at http://xenbits.xen.org/gitweb?p=osstest.git;a=summary Pushing revision : To xenbits.xen.org:/home/xen/git/freebsd.git 58aa509054a..80646d8a6d4 80646d8a6d4ab70f09c8b4a732645c349d9a6a93 -> tested/master _______________________________________________ Xen-devel mailing list [email protected] https://lists.xenproject.org/mailman/listinfo/xen-devel
