flight 132616 freebsd-master real [real]
http://logs.test-lab.xenproject.org/osstest/logs/132616/

Perfect :-)
All tests in this flight passed as required
version targeted for testing:
 freebsd              0ae2e694958b1767ec69d0f76a0d1afceecbcc89
baseline version:
 freebsd              bb58c22379e9aff2ac4ef105c371f30069fe61ab

Last test of basis   132473  2019-01-25 09:19:00 Z    6 days
Failing since        132527  2019-01-28 09:19:07 Z    3 days    2 attempts
Testing same since   132616  2019-01-30 09:19:36 Z    1 days    1 attempts

------------------------------------------------------------
People who touched revisions under test:
  ae <[email protected]>
  andrew <[email protected]>
  asomers <[email protected]>
  avos <[email protected]>
  bapt <[email protected]>
  bcr <[email protected]>
  bz <[email protected]>
  cy <[email protected]>
  emaste <[email protected]>
  gallatin <[email protected]>
  gonzo <[email protected]>
  hselasky <[email protected]>
  jhb <[email protected]>
  kevans <[email protected]>
  kib <[email protected]>
  kp <[email protected]>
  lwhsu <[email protected]>
  marck <[email protected]>
  marius <[email protected]>
  markj <[email protected]>
  mav <[email protected]>
  mckusick <[email protected]>
  mmel <[email protected]>
  netchild <[email protected]>
  ngie <[email protected]>
  np <[email protected]>
  obrien <[email protected]>
  oshogbo <[email protected]>
  pfg <[email protected]>
  pkelsey <[email protected]>
  se <[email protected]>
  takawata <[email protected]>
  trasz <[email protected]>
  tuexen <[email protected]>
  vmaffione <[email protected]>

jobs:
 build-amd64-freebsd-again                                    pass    
 build-amd64-freebsd                                          pass    
 build-amd64-xen-freebsd                                      pass    


------------------------------------------------------------
sg-report-flight on osstest.test-lab.xenproject.org
logs: /home/logs/logs
images: /home/logs/images

Logs, config files, etc. are available at
    http://logs.test-lab.xenproject.org/osstest/logs

Explanation of these reports, and of osstest in general, is at
    http://xenbits.xen.org/gitweb/?p=osstest.git;a=blob;f=README.email;hb=master
    http://xenbits.xen.org/gitweb/?p=osstest.git;a=blob;f=README;hb=master

Test harness code can be found at
    http://xenbits.xen.org/gitweb?p=osstest.git;a=summary


Pushing revision :

To xenbits.xen.org:/home/xen/git/freebsd.git
   bb58c22379e..0ae2e694958  0ae2e694958b1767ec69d0f76a0d1afceecbcc89 -> 
tested/master

_______________________________________________
Xen-devel mailing list
[email protected]
https://lists.xenproject.org/mailman/listinfo/xen-devel

Reply via email to