flight 131662 freebsd-master real [real]
http://logs.test-lab.xenproject.org/osstest/logs/131662/

Perfect :-)
All tests in this flight passed as required
version targeted for testing:
 freebsd              9e724bf2b7e05da60732a17532d26c1385c05045
baseline version:
 freebsd              a85bc55a7f565e903359e12dbd8a90dcf962473e

Last test of basis   131617  2018-12-28 09:19:26 Z    3 days
Testing same since   131662  2018-12-31 09:19:21 Z    0 days    1 attempts

------------------------------------------------------------
People who touched revisions under test:
  0mp <[email protected]>
  avos <[email protected]>
  bcran <[email protected]>
  cem <[email protected]>
  crees <[email protected]>
  cy <[email protected]>
  delphij <[email protected]>
  dim <[email protected]>
  emaste <[email protected]>
  ian <[email protected]>
  jilles <[email protected]>
  kib <[email protected]>
  kp <[email protected]>
  marius <[email protected]>
  mckusick <[email protected]>
  ngie <[email protected]>
  np <[email protected]>
  pfg <[email protected]>
  philip <[email protected]>
  trasz <[email protected]>
  tsoome <[email protected]>

jobs:
 build-amd64-freebsd-again                                    pass    
 build-amd64-freebsd                                          pass    
 build-amd64-xen-freebsd                                      pass    


------------------------------------------------------------
sg-report-flight on osstest.test-lab.xenproject.org
logs: /home/logs/logs
images: /home/logs/images

Logs, config files, etc. are available at
    http://logs.test-lab.xenproject.org/osstest/logs

Explanation of these reports, and of osstest in general, is at
    http://xenbits.xen.org/gitweb/?p=osstest.git;a=blob;f=README.email;hb=master
    http://xenbits.xen.org/gitweb/?p=osstest.git;a=blob;f=README;hb=master

Test harness code can be found at
    http://xenbits.xen.org/gitweb?p=osstest.git;a=summary


Pushing revision :

To xenbits.xen.org:/home/xen/git/freebsd.git
   a85bc55a7f5..9e724bf2b7e  9e724bf2b7e05da60732a17532d26c1385c05045 -> 
tested/master

_______________________________________________
Xen-devel mailing list
[email protected]
https://lists.xenproject.org/mailman/listinfo/xen-devel

Reply via email to