flight 131617 freebsd-master real [real]
http://logs.test-lab.xenproject.org/osstest/logs/131617/

Perfect :-)
All tests in this flight passed as required
version targeted for testing:
 freebsd              a85bc55a7f565e903359e12dbd8a90dcf962473e
baseline version:
 freebsd              5234db76104dc41f94e4899413ba19062c03ddce

Last test of basis   131585  2018-12-26 09:19:18 Z    2 days
Testing same since   131617  2018-12-28 09:19:26 Z    0 days    1 attempts

------------------------------------------------------------
People who touched revisions under test:
  0mp <[email protected]>
  andrew <[email protected]>
  avg <[email protected]>
  cy <[email protected]>
  danfe <[email protected]>
  emaste <[email protected]>
  hselasky <[email protected]>
  jhibbits <[email protected]>
  kadesai <[email protected]>
  kib <[email protected]>
  mav <[email protected]>
  mckusick <[email protected]>
  will <[email protected]>

jobs:
 build-amd64-freebsd-again                                    pass    
 build-amd64-freebsd                                          pass    
 build-amd64-xen-freebsd                                      pass    


------------------------------------------------------------
sg-report-flight on osstest.test-lab.xenproject.org
logs: /home/logs/logs
images: /home/logs/images

Logs, config files, etc. are available at
    http://logs.test-lab.xenproject.org/osstest/logs

Explanation of these reports, and of osstest in general, is at
    http://xenbits.xen.org/gitweb/?p=osstest.git;a=blob;f=README.email;hb=master
    http://xenbits.xen.org/gitweb/?p=osstest.git;a=blob;f=README;hb=master

Test harness code can be found at
    http://xenbits.xen.org/gitweb?p=osstest.git;a=summary


Pushing revision :

To xenbits.xen.org:/home/xen/git/freebsd.git
   5234db76104..a85bc55a7f5  a85bc55a7f565e903359e12dbd8a90dcf962473e -> 
tested/master

_______________________________________________
Xen-devel mailing list
[email protected]
https://lists.xenproject.org/mailman/listinfo/xen-devel

Reply via email to