flight 131545 freebsd-master real [real]
http://logs.test-lab.xenproject.org/osstest/logs/131545/

Perfect :-)
All tests in this flight passed as required
version targeted for testing:
 freebsd              13391961c77b330276430e6fb750a2c1ddb28ff6
baseline version:
 freebsd              de7f82e0773386e0171af4a2fdcb2141fd1354cc

Last test of basis   131488  2018-12-21 09:20:53 Z    3 days
Testing same since   131545  2018-12-24 09:19:23 Z    0 days    1 attempts

------------------------------------------------------------
People who touched revisions under test:
  ae <[email protected]>
  bde <[email protected]>
  cem <[email protected]>
  cy <[email protected]>
  eugen <[email protected]>
  imp <[email protected]>
  kevans <[email protected]>
  kib <[email protected]>
  mav <[email protected]>
  np <[email protected]>
  pfg <[email protected]>
  scottl <[email protected]>
  sjg <[email protected]>
  vmaffione <[email protected]>

jobs:
 build-amd64-freebsd-again                                    pass    
 build-amd64-freebsd                                          pass    
 build-amd64-xen-freebsd                                      pass    


------------------------------------------------------------
sg-report-flight on osstest.test-lab.xenproject.org
logs: /home/logs/logs
images: /home/logs/images

Logs, config files, etc. are available at
    http://logs.test-lab.xenproject.org/osstest/logs

Explanation of these reports, and of osstest in general, is at
    http://xenbits.xen.org/gitweb/?p=osstest.git;a=blob;f=README.email;hb=master
    http://xenbits.xen.org/gitweb/?p=osstest.git;a=blob;f=README;hb=master

Test harness code can be found at
    http://xenbits.xen.org/gitweb?p=osstest.git;a=summary


Pushing revision :

To xenbits.xen.org:/home/xen/git/freebsd.git
   de7f82e0773..13391961c77  13391961c77b330276430e6fb750a2c1ddb28ff6 -> 
tested/master

_______________________________________________
Xen-devel mailing list
[email protected]
https://lists.xenproject.org/mailman/listinfo/xen-devel

Reply via email to