flight 130849 freebsd-master real [real]
http://logs.test-lab.xenproject.org/osstest/logs/130849/

Perfect :-)
All tests in this flight passed as required
version targeted for testing:
 freebsd              b1f31943cb61465b80f786de48501e2fb03e1b61
baseline version:
 freebsd              8894b8e317520c031636fdfab98fc0557a0e1f4c

Last test of basis   130810  2018-11-26 09:20:17 Z    4 days
Testing same since   130849  2018-11-28 12:49:34 Z    2 days    1 attempts

------------------------------------------------------------
People who touched revisions under test:
  0mp <[email protected]>
  ae <[email protected]>
  arybchik <[email protected]>
  asomers <[email protected]>
  bwidawsk <[email protected]>
  dab <[email protected]>
  des <[email protected]>
  emaste <[email protected]>
  eugen <[email protected]>
  gallatin <[email protected]>
  gjb <[email protected]>
  ian <[email protected]>
  imp <[email protected]>
  jamie <[email protected]>
  jhb <[email protected]>
  jhibbits <[email protected]>
  jilles <[email protected]>
  kib <[email protected]>
  manu <[email protected]>
  marius <[email protected]>
  markj <[email protected]>
  markm <[email protected]>
  mckusick <[email protected]>
  mm <[email protected]>
  vangyzen <[email protected]>
  ygy <[email protected]>
  yuripv <[email protected]>

jobs:
 build-amd64-freebsd-again                                    pass    
 build-amd64-freebsd                                          pass    
 build-amd64-xen-freebsd                                      pass    


------------------------------------------------------------
sg-report-flight on osstest.test-lab.xenproject.org
logs: /home/logs/logs
images: /home/logs/images

Logs, config files, etc. are available at
    http://logs.test-lab.xenproject.org/osstest/logs

Explanation of these reports, and of osstest in general, is at
    http://xenbits.xen.org/gitweb/?p=osstest.git;a=blob;f=README.email;hb=master
    http://xenbits.xen.org/gitweb/?p=osstest.git;a=blob;f=README;hb=master

Test harness code can be found at
    http://xenbits.xen.org/gitweb?p=osstest.git;a=summary


Pushing revision :

To xenbits.xen.org:/home/xen/git/freebsd.git
   8894b8e3175..b1f31943cb6  b1f31943cb61465b80f786de48501e2fb03e1b61 -> 
tested/master

_______________________________________________
Xen-devel mailing list
[email protected]
https://lists.xenproject.org/mailman/listinfo/xen-devel

Reply via email to