flight 130648 freebsd-master real [real]
http://logs.test-lab.xenproject.org/osstest/logs/130648/

Perfect :-)
All tests in this flight passed as required
version targeted for testing:
 freebsd              11416ef4a8a41630a61b02e681c9e35d4ea07a7f
baseline version:
 freebsd              fef1dcc92cfc7d9879928902d01ef3adce5e7f34

Last test of basis   130494  2018-11-19 09:21:20 Z    3 days
Testing same since   130648  2018-11-21 09:19:40 Z    1 days    1 attempts

------------------------------------------------------------
People who touched revisions under test:
  0mp <[email protected]>
  ae <[email protected]>
  alc <[email protected]>
  araujo <[email protected]>
  arichardson <[email protected]>
  bcr <[email protected]>
  bwidawsk <[email protected]>
  emaste <[email protected]>
  hselasky <[email protected]>
  imp <[email protected]>
  jhibbits <[email protected]>
  jkim <[email protected]>
  kevans <[email protected]>
  kib <[email protected]>
  marius <[email protected]>
  markj <[email protected]>
  mjg <[email protected]>
  np <[email protected]>
  oshogbo <[email protected]>
  rmacklem <[email protected]>
  tijl <[email protected]>
  tmunro <[email protected]>
  trasz <[email protected]>
  ygy <[email protected]>
  zeising <[email protected]>

jobs:
 build-amd64-freebsd-again                                    pass    
 build-amd64-freebsd                                          pass    
 build-amd64-xen-freebsd                                      pass    


------------------------------------------------------------
sg-report-flight on osstest.test-lab.xenproject.org
logs: /home/logs/logs
images: /home/logs/images

Logs, config files, etc. are available at
    http://logs.test-lab.xenproject.org/osstest/logs

Explanation of these reports, and of osstest in general, is at
    http://xenbits.xen.org/gitweb/?p=osstest.git;a=blob;f=README.email;hb=master
    http://xenbits.xen.org/gitweb/?p=osstest.git;a=blob;f=README;hb=master

Test harness code can be found at
    http://xenbits.xen.org/gitweb?p=osstest.git;a=summary


Pushing revision :

To xenbits.xen.org:/home/xen/git/freebsd.git
   fef1dcc92cf..11416ef4a8a  11416ef4a8a41630a61b02e681c9e35d4ea07a7f -> 
tested/master

_______________________________________________
Xen-devel mailing list
[email protected]
https://lists.xenproject.org/mailman/listinfo/xen-devel

Reply via email to