flight 126378 xen-unstable-coverity real [real] http://logs.test-lab.xenproject.org/osstest/logs/126378/
Perfect :-) All tests in this flight passed as required version targeted for testing: xen 1385a14bfc09672513cb5bf9baafa881c8d93542 baseline version: xen b8f33431f3dd23fb43a879f4bdb4283fdc9465ad Last test of basis 126197 2018-08-19 09:20:34 Z 3 days Testing same since 126378 2018-08-22 09:19:15 Z 0 days 1 attempts ------------------------------------------------------------ People who touched revisions under test: Andrew Cooper <[email protected]> Anthony PERARD <[email protected]> Christopher Clark <[email protected]> Christopher Clark <[email protected]> Doug Goldstein <[email protected]> Ian Jackson <[email protected]> Jan Beulich <[email protected]> Oleksandr Andrushchenko <[email protected]> Tim Deegan <[email protected]> Wei Liu <[email protected]> jobs: coverity-amd64 pass ------------------------------------------------------------ sg-report-flight on osstest.test-lab.xenproject.org logs: /home/logs/logs images: /home/logs/images Logs, config files, etc. are available at http://logs.test-lab.xenproject.org/osstest/logs Explanation of these reports, and of osstest in general, is at http://xenbits.xen.org/gitweb/?p=osstest.git;a=blob;f=README.email;hb=master http://xenbits.xen.org/gitweb/?p=osstest.git;a=blob;f=README;hb=master Test harness code can be found at http://xenbits.xen.org/gitweb?p=osstest.git;a=summary Pushing revision : To xenbits.xen.org:/home/xen/git/xen.git b8f33431f3..1385a14bfc 1385a14bfc09672513cb5bf9baafa881c8d93542 -> coverity-tested/smoke _______________________________________________ Xen-devel mailing list [email protected] https://lists.xenproject.org/mailman/listinfo/xen-devel
