flight 186302 ovmf real [real]
http://logs.test-lab.xenproject.org/osstest/logs/186302/

Perfect :-)
All tests in this flight passed as required
version targeted for testing:
 ovmf                 3dcc7b73df2b1c38c3c1a31724d577f4085f3ab1
baseline version:
 ovmf                 ab069d580111ccc64d6b0c9697b7c5fd6e1507ce

Last test of basis   186283  2024-06-07 18:13:28 Z    2 days
Testing same since   186302  2024-06-10 09:11:12 Z    0 days    1 attempts

------------------------------------------------------------
People who touched revisions under test:
  Ard Biesheuvel <[email protected]>

jobs:
 build-amd64-xsm                                              pass    
 build-i386-xsm                                               pass    
 build-amd64                                                  pass    
 build-i386                                                   pass    
 build-amd64-libvirt                                          pass    
 build-i386-libvirt                                           pass    
 build-amd64-pvops                                            pass    
 build-i386-pvops                                             pass    
 test-amd64-amd64-xl-qemuu-ovmf-amd64                         pass    


------------------------------------------------------------
sg-report-flight on osstest.test-lab.xenproject.org
logs: /home/logs/logs
images: /home/logs/images

Logs, config files, etc. are available at
    http://logs.test-lab.xenproject.org/osstest/logs

Explanation of these reports, and of osstest in general, is at
    http://xenbits.xen.org/gitweb/?p=osstest.git;a=blob;f=README.email;hb=master
    http://xenbits.xen.org/gitweb/?p=osstest.git;a=blob;f=README;hb=master

Test harness code can be found at
    http://xenbits.xen.org/gitweb?p=osstest.git;a=summary


Pushing revision :

To xenbits.xen.org:/home/xen/git/osstest/ovmf.git
   ab069d5801..3dcc7b73df  3dcc7b73df2b1c38c3c1a31724d577f4085f3ab1 -> 
xen-tested-master

Reply via email to