This run is configured for baseline tests only.

flight 74883 ovmf real [real]
http://osstest.xs.citrite.net/~osstest/testlogs/logs/74883/

Perfect :-)
All tests in this flight passed as required
version targeted for testing:
 ovmf                 dde2dd64f07041c2ccc23dc7a5a846e667b7bb1a
baseline version:
 ovmf                 a05a8a5aa17da4bc7144706a9931d68beec1a61f

Last test of basis    74855  2018-06-11 16:23:52 Z    6 days
Testing same since    74883  2018-06-17 19:50:52 Z    0 days    1 attempts

------------------------------------------------------------
People who touched revisions under test:
  Ard Biesheuvel <[email protected]>
  Benjamin You <[email protected]>
  cinnamon shia <[email protected]>
  Dandan Bi <[email protected]>
  Derek Lin <[email protected]>
  Dongao Guo <[email protected]>
  Gerd Hoffmann <[email protected]>
  Hao Wu <[email protected]>
  Jaben Carsey <[email protected]>
  Kinney, Michael D <[email protected]>
  Laszlo Ersek <[email protected]>
  Liming Gao <[email protected]>
  Michael D Kinney <[email protected]>
  Michael Zimmermann <[email protected]>
  Nickle Wang <[email protected]>
  Ruiyu Ni <[email protected]>
  Udit Kumar <[email protected]>
  Yonghong Zhu <[email protected]>
  Yunhua Feng <[email protected]>

jobs:
 build-amd64-xsm                                              pass    
 build-i386-xsm                                               pass    
 build-amd64                                                  pass    
 build-i386                                                   pass    
 build-amd64-libvirt                                          pass    
 build-i386-libvirt                                           pass    
 build-amd64-pvops                                            pass    
 build-i386-pvops                                             pass    
 test-amd64-amd64-xl-qemuu-ovmf-amd64                         pass    
 test-amd64-i386-xl-qemuu-ovmf-amd64                          pass    


------------------------------------------------------------
sg-report-flight on osstest.xs.citrite.net
logs: /home/osstest/logs
images: /home/osstest/images

Logs, config files, etc. are available at
    http://osstest.xs.citrite.net/~osstest/testlogs/logs

Test harness code can be found at
    http://xenbits.xensource.com/gitweb?p=osstest.git;a=summary


Push not applicable.

(No revision log; it would be 745 lines long.)

_______________________________________________
Xen-devel mailing list
[email protected]
https://lists.xenproject.org/mailman/listinfo/xen-devel

Reply via email to