flight 183879 ovmf real [real]
http://logs.test-lab.xenproject.org/osstest/logs/183879/

Perfect :-)
All tests in this flight passed as required
version targeted for testing:
 ovmf                 0e9ce9146a6dc50a35488e3a4a7a2a4bbaf1eb1c
baseline version:
 ovmf                 8736b8fdca85e02933cdb0a13309de14c9799ece

Last test of basis   183825  2023-11-22 13:41:06 Z    5 days
Failing since        183867  2023-11-27 05:41:07 Z    1 days    4 attempts
Testing same since   183875  2023-11-27 20:41:05 Z    0 days    2 attempts

------------------------------------------------------------
People who touched revisions under test:
  Jiewen Yao <[email protected]>
  Michael Kubacki <[email protected]>
  Taylor Beebe <[email protected]>
  xieyuanh <[email protected]>
  Yuanhao Xie <[email protected]>

jobs:
 build-amd64-xsm                                              pass    
 build-i386-xsm                                               pass    
 build-amd64                                                  pass    
 build-i386                                                   pass    
 build-amd64-libvirt                                          pass    
 build-i386-libvirt                                           pass    
 build-amd64-pvops                                            pass    
 build-i386-pvops                                             pass    
 test-amd64-amd64-xl-qemuu-ovmf-amd64                         pass    
 test-amd64-i386-xl-qemuu-ovmf-amd64                          pass    


------------------------------------------------------------
sg-report-flight on osstest.test-lab.xenproject.org
logs: /home/logs/logs
images: /home/logs/images

Logs, config files, etc. are available at
    http://logs.test-lab.xenproject.org/osstest/logs

Explanation of these reports, and of osstest in general, is at
    http://xenbits.xen.org/gitweb/?p=osstest.git;a=blob;f=README.email;hb=master
    http://xenbits.xen.org/gitweb/?p=osstest.git;a=blob;f=README;hb=master

Test harness code can be found at
    http://xenbits.xen.org/gitweb?p=osstest.git;a=summary


Pushing revision :

To xenbits.xen.org:/home/xen/git/osstest/ovmf.git
   8736b8fdca..0e9ce9146a  0e9ce9146a6dc50a35488e3a4a7a2a4bbaf1eb1c -> 
xen-tested-master

Reply via email to