flight 168033 xen-unstable-coverity real [real]
http://logs.test-lab.xenproject.org/osstest/logs/168033/

Perfect :-)
All tests in this flight passed as required
version targeted for testing:
 xen                  820cc393434097f3b7976acdccbf1d96071d6d23
baseline version:
 xen                  9ce3ef20b4f085a7dc8ee41b0fec6fdeced3773e

Last test of basis   167984  2022-02-02 09:19:38 Z    4 days
Testing same since   168033  2022-02-06 09:19:52 Z    0 days    1 attempts

------------------------------------------------------------
People who touched revisions under test:
  Andrew Cooper <[email protected]>
  Artem Bityutskiy <[email protected]>
  Jan Beulich <[email protected]>
  Luca Fancellu <[email protected]>
  Oleksandr Andrushchenko <[email protected]>
  Roger Pau MonnĂ© <[email protected]>
  Sergey Temerkhanov <[email protected]>

jobs:
 coverity-amd64                                               pass    


------------------------------------------------------------
sg-report-flight on osstest.test-lab.xenproject.org
logs: /home/logs/logs
images: /home/logs/images

Logs, config files, etc. are available at
    http://logs.test-lab.xenproject.org/osstest/logs

Explanation of these reports, and of osstest in general, is at
    http://xenbits.xen.org/gitweb/?p=osstest.git;a=blob;f=README.email;hb=master
    http://xenbits.xen.org/gitweb/?p=osstest.git;a=blob;f=README;hb=master

Test harness code can be found at
    http://xenbits.xen.org/gitweb?p=osstest.git;a=summary


Pushing revision :

To xenbits.xen.org:/home/xen/git/xen.git
   9ce3ef20b4..820cc39343  820cc393434097f3b7976acdccbf1d96071d6d23 -> 
coverity-tested/smoke

Reply via email to