flight 167953 xen-unstable-coverity real [real]
http://logs.test-lab.xenproject.org/osstest/logs/167953/

Perfect :-)
All tests in this flight passed as required
version targeted for testing:
 xen                  21170a738c11b24815b4afab2151bd3aa2a29acc
baseline version:
 xen                  9480a1a519cf016623f657dc544cb372a82b5708

Last test of basis   167855  2022-01-26 09:18:33 Z    4 days
Testing same since   167953  2022-01-30 09:20:52 Z    0 days    1 attempts

------------------------------------------------------------
People who touched revisions under test:
  Andrew Cooper <[email protected]>
  Anthony PERARD <[email protected]>
  James Dingwall <[email protected]>
  Jan Beulich <[email protected]>
  Juergen Gross <[email protected]>
  Julien Grall <[email protected]>
  Oleksandr Andrushchenko <[email protected]>
  Oleksandr Tyshchenko <[email protected]>
  Roger Pau MonnĂ© <[email protected]>
  Stefano Stabellini <[email protected]>
  Stefano Stabellini <[email protected]>

jobs:
 coverity-amd64                                               pass    


------------------------------------------------------------
sg-report-flight on osstest.test-lab.xenproject.org
logs: /home/logs/logs
images: /home/logs/images

Logs, config files, etc. are available at
    http://logs.test-lab.xenproject.org/osstest/logs

Explanation of these reports, and of osstest in general, is at
    http://xenbits.xen.org/gitweb/?p=osstest.git;a=blob;f=README.email;hb=master
    http://xenbits.xen.org/gitweb/?p=osstest.git;a=blob;f=README;hb=master

Test harness code can be found at
    http://xenbits.xen.org/gitweb?p=osstest.git;a=summary


Pushing revision :

To xenbits.xen.org:/home/xen/git/xen.git
   9480a1a519..21170a738c  21170a738c11b24815b4afab2151bd3aa2a29acc -> 
coverity-tested/smoke

Reply via email to