flight 167377 ovmf real [real] http://logs.test-lab.xenproject.org/osstest/logs/167377/
Perfect :-) All tests in this flight passed as required version targeted for testing: ovmf f6df289a1c43f60143bba530a823d3fd2eba6223 baseline version: ovmf c82ab4d8c148c4009e0b31d1dd2ea6f7d4aea80d Last test of basis 167239 2021-12-09 06:23:17 Z 2 days Failing since 167240 2021-12-09 08:42:46 Z 2 days 58 attempts Testing same since 167377 2021-12-11 16:10:19 Z 0 days 1 attempts ------------------------------------------------------------ People who touched revisions under test: Brijesh Singh <[email protected]> Brijesh Singh via groups.io <[email protected]> Chris Jones <[email protected]> Gerd Hoffmann <[email protected]> Jason Andryuk <[email protected]> Jiewen Yao <[email protected]> Michael Roth <[email protected]> Philippe Mathieu-Daude <[email protected]> Ray Ni <[email protected]> Rob Bradford <[email protected]> Sebastien Boeuf <[email protected]> Tom Lendacky <[email protected]> jobs: build-amd64-xsm pass build-i386-xsm pass build-amd64 pass build-i386 pass build-amd64-libvirt pass build-i386-libvirt pass build-amd64-pvops pass build-i386-pvops pass test-amd64-amd64-xl-qemuu-ovmf-amd64 pass test-amd64-i386-xl-qemuu-ovmf-amd64 pass ------------------------------------------------------------ sg-report-flight on osstest.test-lab.xenproject.org logs: /home/logs/logs images: /home/logs/images Logs, config files, etc. are available at http://logs.test-lab.xenproject.org/osstest/logs Explanation of these reports, and of osstest in general, is at http://xenbits.xen.org/gitweb/?p=osstest.git;a=blob;f=README.email;hb=master http://xenbits.xen.org/gitweb/?p=osstest.git;a=blob;f=README;hb=master Test harness code can be found at http://xenbits.xen.org/gitweb?p=osstest.git;a=summary Pushing revision : To xenbits.xen.org:/home/xen/git/osstest/ovmf.git c82ab4d8c1..f6df289a1c f6df289a1c43f60143bba530a823d3fd2eba6223 -> xen-tested-master
