flight 166951 ovmf real [real]
http://logs.test-lab.xenproject.org/osstest/logs/166951/

Perfect :-)
All tests in this flight passed as required
version targeted for testing:
 ovmf                 76a1ce4d5fec7cd6906e6ea4ed6a4276b700e7ae
baseline version:
 ovmf                 ef9a059cdb15844fe52a49af2bf7d86b9dd3e9bf

Last test of basis   166949  2021-11-29 06:11:36 Z    0 days
Testing same since   166951  2021-11-29 08:42:05 Z    0 days    1 attempts

------------------------------------------------------------
People who touched revisions under test:
  Michael D Kinney <[email protected]>
  Michael Kubacki <[email protected]>
  Sean Brogan <[email protected]>

jobs:
 build-amd64-xsm                                              pass    
 build-i386-xsm                                               pass    
 build-amd64                                                  pass    
 build-i386                                                   pass    
 build-amd64-libvirt                                          pass    
 build-i386-libvirt                                           pass    
 build-amd64-pvops                                            pass    
 build-i386-pvops                                             pass    
 test-amd64-amd64-xl-qemuu-ovmf-amd64                         pass    
 test-amd64-i386-xl-qemuu-ovmf-amd64                          pass    


------------------------------------------------------------
sg-report-flight on osstest.test-lab.xenproject.org
logs: /home/logs/logs
images: /home/logs/images

Logs, config files, etc. are available at
    http://logs.test-lab.xenproject.org/osstest/logs

Explanation of these reports, and of osstest in general, is at
    http://xenbits.xen.org/gitweb/?p=osstest.git;a=blob;f=README.email;hb=master
    http://xenbits.xen.org/gitweb/?p=osstest.git;a=blob;f=README;hb=master

Test harness code can be found at
    http://xenbits.xen.org/gitweb?p=osstest.git;a=summary


Pushing revision :

To xenbits.xen.org:/home/xen/git/osstest/ovmf.git
   ef9a059cdb..76a1ce4d5f  76a1ce4d5fec7cd6906e6ea4ed6a4276b700e7ae -> 
xen-tested-master

Reply via email to