flight 165960 xen-unstable-coverity real [real] http://logs.test-lab.xenproject.org/osstest/logs/165960/
Perfect :-) All tests in this flight passed as required version targeted for testing: xen 3030a73bf849a50411da95e94abf23cb7e8642fc baseline version: xen b0fce57a6a491c120f2554ad7cc9a0c43ee5defa Last test of basis 165895 2021-10-27 09:18:35 Z 4 days Testing same since 165960 2021-10-31 09:19:38 Z 0 days 1 attempts ------------------------------------------------------------ People who touched revisions under test: Andrew Cooper <[email protected]> Roger Pau Monne <[email protected]> Roger Pau Monné <[email protected]> Stefano Stabellini <[email protected]> jobs: coverity-amd64 pass ------------------------------------------------------------ sg-report-flight on osstest.test-lab.xenproject.org logs: /home/logs/logs images: /home/logs/images Logs, config files, etc. are available at http://logs.test-lab.xenproject.org/osstest/logs Explanation of these reports, and of osstest in general, is at http://xenbits.xen.org/gitweb/?p=osstest.git;a=blob;f=README.email;hb=master http://xenbits.xen.org/gitweb/?p=osstest.git;a=blob;f=README;hb=master Test harness code can be found at http://xenbits.xen.org/gitweb?p=osstest.git;a=summary Pushing revision : To xenbits.xen.org:/home/xen/git/xen.git b0fce57a6a..3030a73bf8 3030a73bf849a50411da95e94abf23cb7e8642fc -> coverity-tested/smoke
